BEGIN:VCALENDAR
VERSION:2.0
PRODID:-//ARS Canada - ECPv6.15.20//NONSGML v1.0//EN
CALSCALE:GREGORIAN
METHOD:PUBLISH
X-ORIGINAL-URL:https://ars-canada.ca
X-WR-CALDESC:Events for ARS Canada
REFRESH-INTERVAL;VALUE=DURATION:PT1H
X-Robots-Tag:noindex
X-PUBLISHED-TTL:PT1H
BEGIN:VTIMEZONE
TZID:America/Halifax
BEGIN:DAYLIGHT
TZOFFSETFROM:-0400
TZOFFSETTO:-0300
TZNAME:ADT
DTSTART:20240310T060000
END:DAYLIGHT
BEGIN:STANDARD
TZOFFSETFROM:-0300
TZOFFSETTO:-0400
TZNAME:AST
DTSTART:20241103T050000
END:STANDARD
BEGIN:DAYLIGHT
TZOFFSETFROM:-0400
TZOFFSETTO:-0300
TZNAME:ADT
DTSTART:20250309T060000
END:DAYLIGHT
BEGIN:STANDARD
TZOFFSETFROM:-0300
TZOFFSETTO:-0400
TZNAME:AST
DTSTART:20251102T050000
END:STANDARD
BEGIN:DAYLIGHT
TZOFFSETFROM:-0400
TZOFFSETTO:-0300
TZNAME:ADT
DTSTART:20260308T060000
END:DAYLIGHT
BEGIN:STANDARD
TZOFFSETFROM:-0300
TZOFFSETTO:-0400
TZNAME:AST
DTSTART:20261101T050000
END:STANDARD
END:VTIMEZONE
BEGIN:VEVENT
DTSTART;TZID=America/Halifax:20250228T170000
DTEND;TZID=America/Halifax:20250228T200000
DTSTAMP:20260424T081829
CREATED:20240801T174312Z
LAST-MODIFIED:20241211T210158Z
UID:10639-1740762000-1740772800@ars-canada.ca
SUMMARY:ARS Toronto Roubina Chapter Celebrates Paregentan for children
DESCRIPTION:
URL:https://ars-canada.ca/event/ars-toronto-roubina-chapter-celebrates-paregentan-for-children-2/
LOCATION:AYC Toronto\, 50 Hallcrown Pl\, Toronto\, ON M2J 4Y4\, Toronto\, Ontario\, M2J 4Y4\, Canada
CATEGORIES:Toronto - Roubina
ATTACH;FMTTYPE=image/png:https://ars-canada.ca/wp-content/uploads/2024/08/thumbnail_Paregentan-2025.png
END:VEVENT
BEGIN:VEVENT
DTSTART;TZID=America/Halifax:20250228T190000
DTEND;TZID=America/Halifax:20250228T223000
DTSTAMP:20260424T081829
CREATED:20250215T003231Z
LAST-MODIFIED:20250215T003231Z
UID:11204-1740769200-1740781800@ars-canada.ca
SUMMARY:ARS Laval "Shoushi" Chapter Celebrates Paregentan
DESCRIPTION:
URL:https://ars-canada.ca/event/ars-laval-shoushi-chapter-celebrates-paregentan/
LOCATION:ACC Laval\, 397 Bd Des Prairies\, Laval\, Quebec\, H7N 2W6\, Canada
CATEGORIES:Laval - Shoushi
ATTACH;FMTTYPE=image/jpeg:https://ars-canada.ca/wp-content/uploads/2025/02/e5bd42c6-2e69-498f-9704-ef3b182e12ca-e1739579498332.jpg
END:VEVENT
END:VCALENDAR