BEGIN:VCALENDAR
VERSION:2.0
PRODID:-//ARS Canada - ECPv6.15.20//NONSGML v1.0//EN
CALSCALE:GREGORIAN
METHOD:PUBLISH
X-WR-CALNAME:ARS Canada
X-ORIGINAL-URL:https://ars-canada.ca
X-WR-CALDESC:Events for ARS Canada
REFRESH-INTERVAL;VALUE=DURATION:PT1H
X-Robots-Tag:noindex
X-PUBLISHED-TTL:PT1H
BEGIN:VTIMEZONE
TZID:America/Halifax
BEGIN:DAYLIGHT
TZOFFSETFROM:-0400
TZOFFSETTO:-0300
TZNAME:ADT
DTSTART:20240310T060000
END:DAYLIGHT
BEGIN:STANDARD
TZOFFSETFROM:-0300
TZOFFSETTO:-0400
TZNAME:AST
DTSTART:20241103T050000
END:STANDARD
BEGIN:DAYLIGHT
TZOFFSETFROM:-0400
TZOFFSETTO:-0300
TZNAME:ADT
DTSTART:20250309T060000
END:DAYLIGHT
BEGIN:STANDARD
TZOFFSETFROM:-0300
TZOFFSETTO:-0400
TZNAME:AST
DTSTART:20251102T050000
END:STANDARD
BEGIN:DAYLIGHT
TZOFFSETFROM:-0400
TZOFFSETTO:-0300
TZNAME:ADT
DTSTART:20260308T060000
END:DAYLIGHT
BEGIN:STANDARD
TZOFFSETFROM:-0300
TZOFFSETTO:-0400
TZNAME:AST
DTSTART:20261101T050000
END:STANDARD
END:VTIMEZONE
BEGIN:VEVENT
DTSTART;TZID=America/Halifax:20250323T133000
DTEND;TZID=America/Halifax:20250323T153000
DTSTAMP:20260424T081723
CREATED:20250222T004105Z
LAST-MODIFIED:20250222T004105Z
UID:11296-1742736600-1742743800@ars-canada.ca
SUMMARY:ARS Toronto "Roubina" Chapter Seminar "MIND MATTERS"
DESCRIPTION:
URL:https://ars-canada.ca/event/ars-toronto-roubina-chapter-seminar-mind-matters/
LOCATION:AYC Toronto\, 50 Hallcrown Pl\, Toronto\, ON M2J 4Y4\, Toronto\, Ontario\, M2J 4Y4\, Canada
CATEGORIES:Toronto - Roubina
ATTACH;FMTTYPE=image/jpeg:https://ars-canada.ca/wp-content/uploads/2024/08/thumbnail_ARSMentalHealth_Post-e1740184816246.jpg
END:VEVENT
END:VCALENDAR