BEGIN:VCALENDAR
VERSION:2.0
PRODID:-//ARS Canada - ECPv6.15.20//NONSGML v1.0//EN
CALSCALE:GREGORIAN
METHOD:PUBLISH
X-ORIGINAL-URL:https://ars-canada.ca
X-WR-CALDESC:Events for ARS Canada
REFRESH-INTERVAL;VALUE=DURATION:PT1H
X-Robots-Tag:noindex
X-PUBLISHED-TTL:PT1H
BEGIN:VTIMEZONE
TZID:America/Halifax
BEGIN:DAYLIGHT
TZOFFSETFROM:-0400
TZOFFSETTO:-0300
TZNAME:ADT
DTSTART:20250309T060000
END:DAYLIGHT
BEGIN:STANDARD
TZOFFSETFROM:-0300
TZOFFSETTO:-0400
TZNAME:AST
DTSTART:20251102T050000
END:STANDARD
BEGIN:DAYLIGHT
TZOFFSETFROM:-0400
TZOFFSETTO:-0300
TZNAME:ADT
DTSTART:20260308T060000
END:DAYLIGHT
BEGIN:STANDARD
TZOFFSETFROM:-0300
TZOFFSETTO:-0400
TZNAME:AST
DTSTART:20261101T050000
END:STANDARD
BEGIN:DAYLIGHT
TZOFFSETFROM:-0400
TZOFFSETTO:-0300
TZNAME:ADT
DTSTART:20270314T060000
END:DAYLIGHT
BEGIN:STANDARD
TZOFFSETFROM:-0300
TZOFFSETTO:-0400
TZNAME:AST
DTSTART:20271107T050000
END:STANDARD
END:VTIMEZONE
BEGIN:VEVENT
DTSTART;TZID=America/Halifax:20260503T160000
DTEND;TZID=America/Halifax:20260503T190000
DTSTAMP:20260422T084655
CREATED:20251009T142029Z
LAST-MODIFIED:20260415T154944Z
UID:11789-1777824000-1777834800@ars-canada.ca
SUMMARY:ARS Montreal & Laval Celebrate ARS Day 2026
DESCRIPTION:
URL:https://ars-canada.ca/event/ars-montreal-laval-celebrate-ars-day-2026/
LOCATION:ARMENIAN COMMUNITY CENTER OF MONTREAL\, 3401 Olivar-Asselin\, Montreal\, Quebec\, H4J 1L5\, Canada
CATEGORIES:Laval - Shoushi,Montreal - Sosse
ATTACH;FMTTYPE=image/jpeg:https://ars-canada.ca/wp-content/uploads/2026/04/ՀՕՄի-օրուան-տօնակատարութիւն-2026-scaled.jpg
END:VEVENT
BEGIN:VEVENT
DTSTART;TZID=America/Halifax:20260504T190000
DTEND;TZID=America/Halifax:20260504T220000
DTSTAMP:20260422T084655
CREATED:20260312T160048Z
LAST-MODIFIED:20260312T160048Z
UID:12297-1777921200-1777932000@ars-canada.ca
SUMMARY:ARS Laval Shoushi Chapter Needlework Classes
DESCRIPTION:
URL:https://ars-canada.ca/event/ars-laval-shoushi-chapter-needlework-classes/2026-05-04/
CATEGORIES:Laval - Shoushi
ATTACH;FMTTYPE=image/jpeg:https://ars-canada.ca/wp-content/uploads/2026/03/Sushi-Needlework.jpg
END:VEVENT
BEGIN:VEVENT
DTSTART;TZID=America/Halifax:20260506T193000
DTEND;TZID=America/Halifax:20260506T220000
DTSTAMP:20260422T084655
CREATED:20251009T133617Z
LAST-MODIFIED:20260120T165214Z
UID:11754-1778095800-1778104800@ars-canada.ca
SUMMARY:ARS Laval Shoushi Chapter Monthly Meeting
DESCRIPTION:
URL:https://ars-canada.ca/event/ars-laval-shoushi-chapter/2026-05-06/
LOCATION:ACC Laval\, 397 Bd Des Prairies\, Laval\, Quebec\, H7N 2W6\, Canada
CATEGORIES:Laval - Shoushi
ATTACH;FMTTYPE=image/png:https://ars-canada.ca/wp-content/uploads/2025/10/Blue-Work-From-Home-Reminder-Instagram-Post.png
END:VEVENT
BEGIN:VEVENT
DTSTART;TZID=America/Halifax:20260508T190000
DTEND;TZID=America/Halifax:20260508T230000
DTSTAMP:20260422T084655
CREATED:20251009T143606Z
LAST-MODIFIED:20251009T143606Z
UID:11807-1778266800-1778281200@ars-canada.ca
SUMMARY:ARS Laval Shoushi Chapter Celebrates Mothers Day
DESCRIPTION:
URL:https://ars-canada.ca/event/ars-laval-shoushi-chapter-celebrates-mothers-day-2/
CATEGORIES:Laval - Shoushi
ATTACH;FMTTYPE=image/png:https://ars-canada.ca/wp-content/uploads/2023/10/save-the-date.png
END:VEVENT
BEGIN:VEVENT
DTSTART;TZID=America/Halifax:20260511T190000
DTEND;TZID=America/Halifax:20260511T220000
DTSTAMP:20260422T084655
CREATED:20260312T160048Z
LAST-MODIFIED:20260312T160048Z
UID:12298-1778526000-1778536800@ars-canada.ca
SUMMARY:ARS Laval Shoushi Chapter Needlework Classes
DESCRIPTION:
URL:https://ars-canada.ca/event/ars-laval-shoushi-chapter-needlework-classes/2026-05-11/
CATEGORIES:Laval - Shoushi
ATTACH;FMTTYPE=image/jpeg:https://ars-canada.ca/wp-content/uploads/2026/03/Sushi-Needlework.jpg
END:VEVENT
BEGIN:VEVENT
DTSTART;TZID=America/Halifax:20260518T190000
DTEND;TZID=America/Halifax:20260518T220000
DTSTAMP:20260422T084655
CREATED:20260312T160048Z
LAST-MODIFIED:20260312T160048Z
UID:12299-1779130800-1779141600@ars-canada.ca
SUMMARY:ARS Laval Shoushi Chapter Needlework Classes
DESCRIPTION:
URL:https://ars-canada.ca/event/ars-laval-shoushi-chapter-needlework-classes/2026-05-18/
CATEGORIES:Laval - Shoushi
ATTACH;FMTTYPE=image/jpeg:https://ars-canada.ca/wp-content/uploads/2026/03/Sushi-Needlework.jpg
END:VEVENT
BEGIN:VEVENT
DTSTART;TZID=America/Halifax:20260525T190000
DTEND;TZID=America/Halifax:20260525T220000
DTSTAMP:20260422T084655
CREATED:20260312T160048Z
LAST-MODIFIED:20260312T160048Z
UID:12300-1779735600-1779746400@ars-canada.ca
SUMMARY:ARS Laval Shoushi Chapter Needlework Classes
DESCRIPTION:
URL:https://ars-canada.ca/event/ars-laval-shoushi-chapter-needlework-classes/2026-05-25/
CATEGORIES:Laval - Shoushi
ATTACH;FMTTYPE=image/jpeg:https://ars-canada.ca/wp-content/uploads/2026/03/Sushi-Needlework.jpg
END:VEVENT
END:VCALENDAR