BEGIN:VCALENDAR
VERSION:2.0
PRODID:-//ARS Canada - ECPv6.15.20//NONSGML v1.0//EN
CALSCALE:GREGORIAN
METHOD:PUBLISH
X-ORIGINAL-URL:https://ars-canada.ca
X-WR-CALDESC:Events for ARS Canada
REFRESH-INTERVAL;VALUE=DURATION:PT1H
X-Robots-Tag:noindex
X-PUBLISHED-TTL:PT1H
BEGIN:VTIMEZONE
TZID:America/Halifax
BEGIN:DAYLIGHT
TZOFFSETFROM:-0400
TZOFFSETTO:-0300
TZNAME:ADT
DTSTART:20220313T060000
END:DAYLIGHT
BEGIN:STANDARD
TZOFFSETFROM:-0300
TZOFFSETTO:-0400
TZNAME:AST
DTSTART:20221106T050000
END:STANDARD
BEGIN:DAYLIGHT
TZOFFSETFROM:-0400
TZOFFSETTO:-0300
TZNAME:ADT
DTSTART:20230312T060000
END:DAYLIGHT
BEGIN:STANDARD
TZOFFSETFROM:-0300
TZOFFSETTO:-0400
TZNAME:AST
DTSTART:20231105T050000
END:STANDARD
BEGIN:DAYLIGHT
TZOFFSETFROM:-0400
TZOFFSETTO:-0300
TZNAME:ADT
DTSTART:20240310T060000
END:DAYLIGHT
BEGIN:STANDARD
TZOFFSETFROM:-0300
TZOFFSETTO:-0400
TZNAME:AST
DTSTART:20241103T050000
END:STANDARD
END:VTIMEZONE
BEGIN:VTIMEZONE
TZID:America/New_York
BEGIN:DAYLIGHT
TZOFFSETFROM:-0500
TZOFFSETTO:-0400
TZNAME:EDT
DTSTART:20220313T070000
END:DAYLIGHT
BEGIN:STANDARD
TZOFFSETFROM:-0400
TZOFFSETTO:-0500
TZNAME:EST
DTSTART:20221106T060000
END:STANDARD
BEGIN:DAYLIGHT
TZOFFSETFROM:-0500
TZOFFSETTO:-0400
TZNAME:EDT
DTSTART:20230312T070000
END:DAYLIGHT
BEGIN:STANDARD
TZOFFSETFROM:-0400
TZOFFSETTO:-0500
TZNAME:EST
DTSTART:20231105T060000
END:STANDARD
BEGIN:DAYLIGHT
TZOFFSETFROM:-0500
TZOFFSETTO:-0400
TZNAME:EDT
DTSTART:20240310T070000
END:DAYLIGHT
BEGIN:STANDARD
TZOFFSETFROM:-0400
TZOFFSETTO:-0500
TZNAME:EST
DTSTART:20241103T060000
END:STANDARD
END:VTIMEZONE
BEGIN:VEVENT
DTSTART;TZID=America/Halifax:20230207T080000
DTEND;TZID=America/Halifax:20230410T233000
DTSTAMP:20260426T000910
CREATED:20230205T143044Z
LAST-MODIFIED:20230223T232721Z
UID:7863-1675756800-1681169400@ars-canada.ca
SUMMARY:ARS Canada Earthquake Fund Raiser
DESCRIPTION:You can help by making your donations to ARS Canada by visiting our website and choosing “Aid to Syria” Fund. \nhttps://ars-canada.ca/donations/\nor \nby e-transfer to ars-canada@bellnet.ca \n \n  \n  \n  \n  \n  \n  \n  \n  \n  \n  \nhttps://conta.cc/3JTC8vK
URL:https://ars-canada.ca/event/ars-canada-earthquake-fund-raiser/
LOCATION:Quebec
CATEGORIES:Cambridge - Meghri,Hamilton - Arev,Laval - Shoushi,Mississauga - Arakasd,Montreal - Sosse,Ottawa - Sevan,St. Catharines - Araz,Toronto - Roubina,Vancouver - Araz,Windsor -Roubina
ATTACH;FMTTYPE=image/jpeg:https://ars-canada.ca/wp-content/uploads/2023/02/Aid-to-Syria-e1677194799405.jpg
END:VEVENT
BEGIN:VEVENT
DTSTART;VALUE=DATE:20230208
DTEND;VALUE=DATE:20230301
DTSTAMP:20260426T000910
CREATED:20230207T001455Z
LAST-MODIFIED:20230208T190323Z
UID:7797-1675814400-1677628799@ars-canada.ca
SUMMARY:Sirde Sird Heart to Heart  FUND DRIVE 2023
DESCRIPTION:
URL:https://ars-canada.ca/event/sirde-sird-heart-to-heart-fund-drive-2023/
LOCATION:Quebec
CATEGORIES:Cambridge - Meghri,Hamilton - Arev,Laval - Shoushi,Mississauga - Arakasd,Montreal - Sosse,Ottawa - Sevan,St. Catharines - Araz,Toronto - Roubina,Vancouver - Araz,Windsor -Roubina
ATTACH;FMTTYPE=image/jpeg:https://ars-canada.ca/wp-content/uploads/2023/02/thumbnail_Sirde-sird_new-ad.jpg
END:VEVENT
BEGIN:VEVENT
DTSTART;TZID=America/Halifax:20230208T080000
DTEND;TZID=America/Halifax:20230331T233000
DTSTAMP:20260426T000910
CREATED:20230208T032928Z
LAST-MODIFIED:20230306T025309Z
UID:7808-1675843200-1680305400@ars-canada.ca
SUMMARY:ARS Montreal Sosse Chapter Scholarship 2023
DESCRIPTION:Please visit the link \nhttps://ars-canada.ca/montreal-sosse-scholarships-awards/
URL:https://ars-canada.ca/event/ars-montreal-sosse-chapter-scholarship-2023/
LOCATION:Quebec
CATEGORIES:Montreal - Sosse
ATTACH;FMTTYPE=image/jpeg:https://ars-canada.ca/wp-content/uploads/2023/02/thumbnail_SCHOLARSHIP-PROGRAM-FLYER.jpg
END:VEVENT
BEGIN:VEVENT
DTSTART;TZID=America/Halifax:20230214T103000
DTEND;TZID=America/Halifax:20230214T143000
DTSTAMP:20260426T000910
CREATED:20230210T134747Z
LAST-MODIFIED:20230210T134747Z
UID:7904-1676370600-1676385000@ars-canada.ca
SUMMARY:ARS Montreal Sosse Chapter Social Committee Valentine's Day Fundraiser for Syria's Earthquake
DESCRIPTION:Այս ձեռնարկին հասոյթը ամբողջութեամբ պիտի յատկացուի Սուրիահայութեան օժանդակութեան հանգանակային արշաւին։\nՁեր տեղերը ապահովելու Համար դիմել Ընկհ. Լենային 514 -272-5858
URL:https://ars-canada.ca/event/ars-montreal-sosse-chapter-social-committee-valentines-day-fundraiser-for-syrias-earthquake/
LOCATION:ARMENIAN COMMUNITY CENTER OF MONTREAL\, 3401 Olivar-Asselin\, Montreal\, Quebec\, H4J 1L5\, Canada
CATEGORIES:Montreal - Sosse
ATTACH;FMTTYPE=image/jpeg:https://ars-canada.ca/wp-content/uploads/2023/02/Social-Committee-Lunch-fundraiser.jpg
END:VEVENT
BEGIN:VEVENT
DTSTART;TZID=America/Halifax:20230217T140000
DTEND;TZID=America/Halifax:20230217T210000
DTSTAMP:20260426T000910
CREATED:20230210T135545Z
LAST-MODIFIED:20230210T135545Z
UID:7908-1676642400-1676667600@ars-canada.ca
SUMMARY:ARS Montreal Sosse Chapter Bake Sale and Special Take out dinner for Syrian-Armenian Earthquake Relief
DESCRIPTION:  \nԲարեւ սիրելի’ անդամներ եւ համակիրներ\, \nԻնչպէս գիտէք\, 6 Փետրուար\, 2023-ին ահաւոր երկրաշարժ մը ցնցեց Թուրքիոյ հարաւը և Սուրիոյ հիւսիսային շրջանը\, ներառեալ հայաշատ Հալէպ քաղաքը։ Երկրաշարժը տապալեց բազմաբնակ շէնքեր և ծանրակշիռ աւերներ պատճառեց\, որուն հետեւանքով արձանագրուեցան հազարաւոր տնանկներ\, վիրաւորներ եւ հարիւրաւոր մահեր: \n«Ժողովուրդիս հետ\, ժողովուրդիս համար». \nԳործնականի անցնելով ՀՕՄ-ի այս նպատակը\, ՀՕՄ-ի Մոնթրէալի «Սօսէ» մասնաճիւղի վարչութիւնը կը կազմակերպէ ճաշի յատուկ երկու վաճառքներ\, Ուրբաթ\, 17 Փետրուար\, 2023-ին՝  ի նպաստ Սուրիահայ գաղութին: \n1. Bake sale\, տեղի կ’ունենայ Ուրբաթ\,17 Փետրուար\, 2023-ի երեկոյեան ժամը 2:00-9:00.\n2. Special take out dinner\, տեղի կ’ունենայ Ուրբաթ\,17 Փետրուար\, 2023-ի երեկոյեան ժամը 2:00-9:00. \nԻնչպէս նաեւ Երեքշաբթի\,14 Փետրուարին «Սիրոյ Տօնի» առթիւ\,  մասնաճիւղիս ընկերային յանձնախումբի կազմակերպած ճաշի ձեռնարկի հասոյթը ամբողջութեամբ պիտի տրամադրուի վերոյիշեալ նպատակին: \nՎստահ ենք\, ինչպէս միշտ\, նեցուկ պիտի կանգնիք մեզի եւ պիտի քաջալերէք այս յատկանշական նախաձեռնութիւնը\, որպէսզի միասնաբար հասնինք մեր նպատակին եւ օգտակար դառնանք Սուրիոյ մեր քոյրերուն եւ եղբայրներուն: \nԱնոնք\, որոնք կը փափաքին ճաշերը ապսպրել եւ կամ նուիրատուութիւններ կատարել\, կրնան հետեւիլ ստորեւ դրուած անգլերէն տարբերակին: \nԿանխայայտ շնորհակալութիւն ձեր աջակցութեան \nՀՕՄ-ի Մոնթրէալի «Սօսէ» մասնաճիւղի վարչութիւն \n**************************************************************************************** \nDear members and friends\, \nThe Armenian Relief Society Montreal “Sosse” chapter expresses its solidarity and extends a hand to our Syrian Armenian Community affected by this severe earthquake. Our Deepest condolences to the families of the victims of the horrible earthquake\, including those Armenian families\, in & around the epicenter zone\, who lost their beloved ones. \nThe Armenian Relief Society (ARS) has many missions\, one of which is to bring humanitarian help to all communities in distress\, Armenian and non-Armenian\, whenever and wherever the needs arise.\nIn these dire times\, ARS Montreal chapter is more active than ever and is organising two fundraisers to help those effected by this catastrophe and for the ongoing activities of the community as they continue to struggle with the devastation left by the war: \n1. A bake sale which will be held on Friday February 17th\, 2023 from 2:00 to 9:00 pm\n2. A special take out dinner on Friday February 17th\, 2023 as a fund-raiser from 2:00 to 9:00 pm.\nAll proceeds will be donated towards the ARS Syrian Earthquake fund. \nIn addition\, all proceeds from the Valentine’s Day Lunch organized by the Social Committee will be donated towards the ARS Syrian Earthquake fund. \nHow to order\nPlease click on the link to learn more about the menu and order process: \nhttps://forms.gle/RCU2XkjBGjYzJcpP8\nHow to donate\nShould you wish to participate by donating to the cause\, please visit our ARS Canada webpage \nhttps://www.canadahelps.org/en/dn/39733 \nan choosing “Aid to Syria” Fund. \nOn behalf of the ARS Montreal Sosse chapter executive members\, a sincere thank you to all our volunteers who will be contributing their time towards the success of this event\, to our suppliers who will be supporting our cause with their donations in kind and to our donors who continuously believe and stand by our mission. \nUngeragan cherm parevnerov\, \nARS Montreal “Sosse” chapter’s executive board
URL:https://ars-canada.ca/event/ars-montreal-sosse-chapter-bake-sale-and-special-take-out-dinner-for-syrian-armenian-earthquake-relief/
LOCATION:Quebec
CATEGORIES:Montreal - Sosse
ATTACH;FMTTYPE=image/jpeg:https://ars-canada.ca/wp-content/uploads/2023/02/fund-raiser-bake-sale.jpg
END:VEVENT
BEGIN:VEVENT
DTSTART;TZID=America/Halifax:20230222T193000
DTEND;TZID=America/Halifax:20230222T230000
DTSTAMP:20260426T000910
CREATED:20230128T031418Z
LAST-MODIFIED:20230207T010856Z
UID:7740-1677094200-1677106800@ars-canada.ca
SUMMARY:ARS Montreal Sosse Chapter Organizes St. Vartanants Lecture
DESCRIPTION:
URL:https://ars-canada.ca/event/ars-montreal-sosse-chapter-organizes-st-vartanants-lecture/
LOCATION:ARMENIAN COMMUNITY CENTER OF MONTREAL\, 3401 Olivar-Asselin\, Montreal\, Quebec\, H4J 1L5\, Canada
CATEGORIES:Montreal - Sosse
ATTACH;FMTTYPE=image/jpeg:https://ars-canada.ca/wp-content/uploads/2023/01/Screenshot-2023-02-06-200809.jpg
END:VEVENT
BEGIN:VEVENT
DTSTART;TZID=America/New_York:20230226T100000
DTEND;TZID=America/New_York:20230226T133000
DTSTAMP:20260426T000910
CREATED:20220909T134848Z
LAST-MODIFIED:20221028T025530Z
UID:7074-1677405600-1677418200@ars-canada.ca
SUMMARY:ARS Requiem Mass All Chapters
DESCRIPTION:
URL:https://ars-canada.ca/event/ars-requiem-mass-all-chapters/
LOCATION:Quebec
CATEGORIES:Cambridge - Meghri,Hamilton - Arev,Laval - Shoushi,Mississauga - Arakasd,Montreal - Sosse,Ottawa - Sevan,St. Catharines - Araz,Toronto - Roubina,Vancouver - Araz,Windsor -Roubina
ATTACH;FMTTYPE=image/jpeg:https://ars-canada.ca/wp-content/uploads/2022/09/274487811_1091763971390086_1158057576283212926_n.jpg
END:VEVENT
END:VCALENDAR