BEGIN:VCALENDAR
VERSION:2.0
PRODID:-//ARS Canada - ECPv6.15.20//NONSGML v1.0//EN
CALSCALE:GREGORIAN
METHOD:PUBLISH
X-WR-CALNAME:ARS Canada
X-ORIGINAL-URL:https://ars-canada.ca
X-WR-CALDESC:Events for ARS Canada
REFRESH-INTERVAL;VALUE=DURATION:PT1H
X-Robots-Tag:noindex
X-PUBLISHED-TTL:PT1H
BEGIN:VTIMEZONE
TZID:America/Halifax
BEGIN:DAYLIGHT
TZOFFSETFROM:-0400
TZOFFSETTO:-0300
TZNAME:ADT
DTSTART:20220313T060000
END:DAYLIGHT
BEGIN:STANDARD
TZOFFSETFROM:-0300
TZOFFSETTO:-0400
TZNAME:AST
DTSTART:20221106T050000
END:STANDARD
BEGIN:DAYLIGHT
TZOFFSETFROM:-0400
TZOFFSETTO:-0300
TZNAME:ADT
DTSTART:20230312T060000
END:DAYLIGHT
BEGIN:STANDARD
TZOFFSETFROM:-0300
TZOFFSETTO:-0400
TZNAME:AST
DTSTART:20231105T050000
END:STANDARD
BEGIN:DAYLIGHT
TZOFFSETFROM:-0400
TZOFFSETTO:-0300
TZNAME:ADT
DTSTART:20240310T060000
END:DAYLIGHT
BEGIN:STANDARD
TZOFFSETFROM:-0300
TZOFFSETTO:-0400
TZNAME:AST
DTSTART:20241103T050000
END:STANDARD
END:VTIMEZONE
BEGIN:VTIMEZONE
TZID:America/New_York
BEGIN:DAYLIGHT
TZOFFSETFROM:-0500
TZOFFSETTO:-0400
TZNAME:EDT
DTSTART:20220313T070000
END:DAYLIGHT
BEGIN:STANDARD
TZOFFSETFROM:-0400
TZOFFSETTO:-0500
TZNAME:EST
DTSTART:20221106T060000
END:STANDARD
BEGIN:DAYLIGHT
TZOFFSETFROM:-0500
TZOFFSETTO:-0400
TZNAME:EDT
DTSTART:20230312T070000
END:DAYLIGHT
BEGIN:STANDARD
TZOFFSETFROM:-0400
TZOFFSETTO:-0500
TZNAME:EST
DTSTART:20231105T060000
END:STANDARD
BEGIN:DAYLIGHT
TZOFFSETFROM:-0500
TZOFFSETTO:-0400
TZNAME:EDT
DTSTART:20240310T070000
END:DAYLIGHT
BEGIN:STANDARD
TZOFFSETFROM:-0400
TZOFFSETTO:-0500
TZNAME:EST
DTSTART:20241103T060000
END:STANDARD
END:VTIMEZONE
BEGIN:VEVENT
DTSTART;VALUE=DATE:20230501
DTEND;VALUE=DATE:20230601
DTSTAMP:20260425T173649
CREATED:20230523T154415Z
LAST-MODIFIED:20230523T155048Z
UID:8470-1682899200-1685577599@ars-canada.ca
SUMMARY:ARS Canada Dedicates May for Javakh Fundraising
DESCRIPTION:
URL:https://ars-canada.ca/event/ars-canada-dedicates-may-for-javakh-fundraising/
LOCATION:ARMENIAN COMMUNITY CENTER OF MONTREAL\, 3401 Olivar-Asselin\, Montreal\, Quebec\, H4J 1L5\, Canada
CATEGORIES:Cambridge - Meghri,Hamilton - Arev,Laval - Shoushi,Mississauga - Arakasd,Montreal - Sosse,Ottawa - Sevan,St. Catharines - Araz,Toronto - Roubina,Vancouver - Araz,Windsor -Roubina
ATTACH;FMTTYPE=image/jpeg:https://ars-canada.ca/wp-content/uploads/2023/05/thumbnail_Javakh-flyer_May-1-2023_Final_English-1-e1684856948176.jpg
END:VEVENT
BEGIN:VEVENT
DTSTART;TZID=America/New_York:20230507T150000
DTEND;TZID=America/New_York:20230507T170000
DTSTAMP:20260425T173649
CREATED:20220909T135217Z
LAST-MODIFIED:20230426T201326Z
UID:7080-1683471600-1683478800@ars-canada.ca
SUMMARY:ARS Montreal/Laval Chapters Celebrate ARS Day
DESCRIPTION:
URL:https://ars-canada.ca/event/ars-montreal-laval-chapter-celebrate-ars-day/
LOCATION:Ecole Armenienne Sourp Hagop\, 3400 Rue Nadon\, Montréal\, Quebec\, H4J 1P6\, Canada
CATEGORIES:Laval - Shoushi,Montreal - Sosse
ATTACH;FMTTYPE=image/jpeg:https://ars-canada.ca/wp-content/uploads/2022/09/new-2-e1682540179428.jpg
END:VEVENT
BEGIN:VEVENT
DTSTART;TZID=America/Halifax:20230509T103000
DTEND;TZID=America/Halifax:20230509T170000
DTSTAMP:20260425T173649
CREATED:20230504T152716Z
LAST-MODIFIED:20230504T152851Z
UID:8455-1683628200-1683651600@ars-canada.ca
SUMMARY:ARS Montreal Social Commitee Celebrates Mother's Day
DESCRIPTION:
URL:https://ars-canada.ca/event/ars-montreal-social-commitee-celebrates-mothers-day/
LOCATION:ARMENIAN COMMUNITY CENTER OF MONTREAL\, 3401 Olivar-Asselin\, Montreal\, Quebec\, H4J 1L5\, Canada
CATEGORIES:Montreal - Sosse
ATTACH;FMTTYPE=image/jpeg:https://ars-canada.ca/wp-content/uploads/2023/05/1f0d7404-f2a4-2bdb-64d0-e7de6a7740aa-e1683213965570.jpg
END:VEVENT
BEGIN:VEVENT
DTSTART;TZID=America/Halifax:20230516T190000
DTEND;TZID=America/Halifax:20230516T223000
DTSTAMP:20260425T173649
CREATED:20230504T153207Z
LAST-MODIFIED:20230504T153320Z
UID:8458-1684263600-1684276200@ars-canada.ca
SUMMARY:ARS Montreal Special Meeting
DESCRIPTION:
URL:https://ars-canada.ca/event/ars-montreal-special-meeting/
LOCATION:ARMENIAN COMMUNITY CENTER OF MONTREAL\, 3401 Olivar-Asselin\, Montreal\, Quebec\, H4J 1L5\, Canada
CATEGORIES:Montreal - Sosse
ATTACH;FMTTYPE=image/jpeg:https://ars-canada.ca/wp-content/uploads/2023/05/thumbnail_Sosse-Chapter-Montreal-Quebec-Monthly-Meeting.jpg
END:VEVENT
BEGIN:VEVENT
DTSTART;TZID=America/Halifax:20230520T090000
DTEND;TZID=America/Halifax:20230521T160000
DTSTAMP:20260425T173649
CREATED:20230322T001421Z
LAST-MODIFIED:20230425T193459Z
UID:8144-1684573200-1684684800@ars-canada.ca
SUMMARY:ARS Montreal Sosse Chapter's Spring Garage Sale
DESCRIPTION:Items will be collecetd May 17-19\, 2023 at Markarian Gymnasium \n 
URL:https://ars-canada.ca/event/ars-montreal-sosse-chapters-spring-garage-sale/
LOCATION:Quebec
CATEGORIES:Montreal - Sosse
ATTACH;FMTTYPE=image/jpeg:https://ars-canada.ca/wp-content/uploads/2023/03/337171753_234224412310670_4843418560145217854_n.jpg
END:VEVENT
END:VCALENDAR