BEGIN:VCALENDAR
VERSION:2.0
PRODID:-//ARS Canada - ECPv6.15.20//NONSGML v1.0//EN
CALSCALE:GREGORIAN
METHOD:PUBLISH
X-WR-CALNAME:ARS Canada
X-ORIGINAL-URL:https://ars-canada.ca
X-WR-CALDESC:Events for ARS Canada
REFRESH-INTERVAL;VALUE=DURATION:PT1H
X-Robots-Tag:noindex
X-PUBLISHED-TTL:PT1H
BEGIN:VTIMEZONE
TZID:America/Halifax
BEGIN:DAYLIGHT
TZOFFSETFROM:-0400
TZOFFSETTO:-0300
TZNAME:ADT
DTSTART:20230312T060000
END:DAYLIGHT
BEGIN:STANDARD
TZOFFSETFROM:-0300
TZOFFSETTO:-0400
TZNAME:AST
DTSTART:20231105T050000
END:STANDARD
BEGIN:DAYLIGHT
TZOFFSETFROM:-0400
TZOFFSETTO:-0300
TZNAME:ADT
DTSTART:20240310T060000
END:DAYLIGHT
BEGIN:STANDARD
TZOFFSETFROM:-0300
TZOFFSETTO:-0400
TZNAME:AST
DTSTART:20241103T050000
END:STANDARD
BEGIN:DAYLIGHT
TZOFFSETFROM:-0400
TZOFFSETTO:-0300
TZNAME:ADT
DTSTART:20250309T060000
END:DAYLIGHT
BEGIN:STANDARD
TZOFFSETFROM:-0300
TZOFFSETTO:-0400
TZNAME:AST
DTSTART:20251102T050000
END:STANDARD
END:VTIMEZONE
BEGIN:VEVENT
DTSTART;TZID=America/Halifax:20240111T193000
DTEND;TZID=America/Halifax:20240111T223000
DTSTAMP:20260425T011450
CREATED:20231013T194950Z
LAST-MODIFIED:20240109T174529Z
UID:9001-1705001400-1705012200@ars-canada.ca
SUMMARY:ARS Montreal/Laval Chapters Celebrate New Year Party 2024
DESCRIPTION:
URL:https://ars-canada.ca/event/ars-montreal-sosse-chapter-members-new-year-party-2024/
LOCATION:ARMENIAN COMMUNITY CENTER OF MONTREAL\, 3401 Olivar-Asselin\, Montreal\, Quebec\, H4J 1L5\, Canada
CATEGORIES:Laval - Shoushi,Montreal - Sosse
ATTACH;FMTTYPE=image/jpeg:https://ars-canada.ca/wp-content/uploads/2023/10/414879867_18262661866206530_7222409401355619329_n.jpg
END:VEVENT
BEGIN:VEVENT
DTSTART;TZID=America/Halifax:20240128T093000
DTEND;TZID=America/Halifax:20240128T123000
DTSTAMP:20260425T011450
CREATED:20240110T195123Z
LAST-MODIFIED:20240110T195123Z
UID:9402-1706434200-1706445000@ars-canada.ca
SUMMARY:ARS Montreal Sosse Chapter Organizes Seminar on Empowerment
DESCRIPTION:Սիրելի ընկերուհիներ եւ ընկերներ\, \nՄասնակցելու համար\, հաճեցէք արձանագրուիլ հետեւեալ կապին՝ https://forms.gle/YLbDCuUBEM1FdCtX9 \nՁեր վճարումները ($30) կրնաք կատարել Interac-e-transfer-ով հետեւեալ հասցէին՝ sosse.comptable@gmail.com\, արձանագրելով նպատակը՝ Empower22: \nՁեզ կը սպասենք: \nԸնկերական ջերմ բարեւներով՝\nՀՕՄ-ի Մոնթրէալի «Սօսէ» Մասնաճիւղի Վարչութիւն\n——————————————————\nDear members\, \nWe’re excited to announce that our second empowerment gathering is set for January 28th. This time\, the focus will be on a vital yet undervalued topic: unveiling the truth about perimenopause and menopause! \nDr. Taline Ghazigian\, our keynote speaker\, will bring her profound understanding and wealth of experience to shed light on this crucial stage in a woman’s life. \nVisit  https://forms.gle/YLbDCuUBEM1FdCtX9 to register for the event. \nPlease e-transfer your $30 participation fee to sosse.comptable@gmail.com and indicate Empower22 in the comment section. \nWe are looking forward to seeing you on January 28th! \nUngeragan cherm parevnerov\,\nARS Montreal “Sosse” chapter’s executive board
URL:https://ars-canada.ca/event/ars-montreal-sosse-chapter-organizes-seminar-on-empowerment/
LOCATION:Gunjian  Centre\, 3490 Olivar-Asselin\, Montreal\, Quebec\, H4J 1L5\, Canada
CATEGORIES:Montreal - Sosse
ATTACH;FMTTYPE=image/jpeg:https://ars-canada.ca/wp-content/uploads/2024/01/empowerment.jpg
END:VEVENT
END:VCALENDAR