BEGIN:VCALENDAR
VERSION:2.0
PRODID:-//ARS Canada - ECPv6.15.20//NONSGML v1.0//EN
CALSCALE:GREGORIAN
METHOD:PUBLISH
X-WR-CALNAME:ARS Canada
X-ORIGINAL-URL:https://ars-canada.ca
X-WR-CALDESC:Events for ARS Canada
REFRESH-INTERVAL;VALUE=DURATION:PT1H
X-Robots-Tag:noindex
X-PUBLISHED-TTL:PT1H
BEGIN:VTIMEZONE
TZID:America/Halifax
BEGIN:DAYLIGHT
TZOFFSETFROM:-0400
TZOFFSETTO:-0300
TZNAME:ADT
DTSTART:20230312T060000
END:DAYLIGHT
BEGIN:STANDARD
TZOFFSETFROM:-0300
TZOFFSETTO:-0400
TZNAME:AST
DTSTART:20231105T050000
END:STANDARD
BEGIN:DAYLIGHT
TZOFFSETFROM:-0400
TZOFFSETTO:-0300
TZNAME:ADT
DTSTART:20240310T060000
END:DAYLIGHT
BEGIN:STANDARD
TZOFFSETFROM:-0300
TZOFFSETTO:-0400
TZNAME:AST
DTSTART:20241103T050000
END:STANDARD
BEGIN:DAYLIGHT
TZOFFSETFROM:-0400
TZOFFSETTO:-0300
TZNAME:ADT
DTSTART:20250309T060000
END:DAYLIGHT
BEGIN:STANDARD
TZOFFSETFROM:-0300
TZOFFSETTO:-0400
TZNAME:AST
DTSTART:20251102T050000
END:STANDARD
END:VTIMEZONE
BEGIN:VEVENT
DTSTART;VALUE=DATE:20240309
DTEND;VALUE=DATE:20240310
DTSTAMP:20260424T212826
CREATED:20240306T140631Z
LAST-MODIFIED:20240306T140631Z
UID:9666-1709942400-1710028799@ars-canada.ca
SUMMARY:ARS Montreal Sosse Chapter University Scholarship 2024
DESCRIPTION:Jirayr & Houry Zakarian scholarship application – April 30\, 2024
URL:https://ars-canada.ca/event/ars-montreal-sosse-chapter-university-scholarship-2024/2024-03-09/
LOCATION:Quebec
CATEGORIES:Montreal - Sosse
ATTACH;FMTTYPE=image/jpeg:https://ars-canada.ca/wp-content/uploads/2024/03/02e620b7-16ec-1229-b9b3-78d04fd6a7b8.jpg
END:VEVENT
BEGIN:VEVENT
DTSTART;TZID=America/Halifax:20240310T110000
DTEND;TZID=America/Halifax:20240310T140000
DTSTAMP:20260424T212826
CREATED:20231013T200225Z
LAST-MODIFIED:20240219T015242Z
UID:9011-1710068400-1710079200@ars-canada.ca
SUMMARY:ARS Montreal/Laval Chapters Celebrate IWD 2024
DESCRIPTION:
URL:https://ars-canada.ca/event/ars-montreal-laval-chapters-celebrate-iwd-2024/
LOCATION:ARMENIAN COMMUNITY CENTER OF MONTREAL\, 3401 Olivar-Asselin\, Montreal\, Quebec\, H4J 1L5\, Canada
CATEGORIES:Laval - Shoushi,Montreal - Sosse
ATTACH;FMTTYPE=image/jpeg:https://ars-canada.ca/wp-content/uploads/2023/10/424736593_18267313324206530_4001527721279878604_n.jpg
END:VEVENT
BEGIN:VEVENT
DTSTART;TZID=America/Halifax:20240321T193000
DTEND;TZID=America/Halifax:20240321T213000
DTSTAMP:20260424T212826
CREATED:20240303T151553Z
LAST-MODIFIED:20240303T152009Z
UID:9629-1711049400-1711056600@ars-canada.ca
SUMMARY:ARS Canada Organizes a Book Launching on Armenian Woman Doctors Throughout History
DESCRIPTION:https://www.facebook.com/ars.canada/videos/1428817771360004
URL:https://ars-canada.ca/event/ars-canada-organizes-a-book-launching-on-armenian-woman-doctors-throughout-history/
LOCATION:Ecole Armenienne Sourp Hagop\, 3400 Rue Nadon\, Montréal\, Quebec\, H4J 1P6\, Canada
CATEGORIES:Laval - Shoushi,Montreal - Sosse
ATTACH;FMTTYPE=image/jpeg:https://ars-canada.ca/wp-content/uploads/2024/03/428390894_769589891873459_6402945924229812232_n-e1709479132181.jpg
END:VEVENT
BEGIN:VEVENT
DTSTART;TZID=America/Halifax:20240324T103000
DTEND;TZID=America/Halifax:20240324T140000
DTSTAMP:20260424T212826
CREATED:20231013T200352Z
LAST-MODIFIED:20240217T135850Z
UID:9013-1711276200-1711288800@ars-canada.ca
SUMMARY:ARS Montreal Sosse Chapter Dzaghgazart Bake Sale 2024
DESCRIPTION:
URL:https://ars-canada.ca/event/ars-montreal-sosse-chapter-dzaghgazart-bake-sale-2024/
LOCATION:ARMENIAN COMMUNITY CENTER OF MONTREAL\, 3401 Olivar-Asselin\, Montreal\, Quebec\, H4J 1L5\, Canada
CATEGORIES:Montreal - Sosse
ATTACH;FMTTYPE=image/jpeg:https://ars-canada.ca/wp-content/uploads/2023/10/0760fad0-551d-f593-3364-93ef2c6cc88a-e1708178267877.jpg
END:VEVENT
END:VCALENDAR