BEGIN:VCALENDAR
VERSION:2.0
PRODID:-//ARS Canada - ECPv6.15.20//NONSGML v1.0//EN
CALSCALE:GREGORIAN
METHOD:PUBLISH
X-WR-CALNAME:ARS Canada
X-ORIGINAL-URL:https://ars-canada.ca
X-WR-CALDESC:Events for ARS Canada
REFRESH-INTERVAL;VALUE=DURATION:PT1H
X-Robots-Tag:noindex
X-PUBLISHED-TTL:PT1H
BEGIN:VTIMEZONE
TZID:America/Halifax
BEGIN:DAYLIGHT
TZOFFSETFROM:-0400
TZOFFSETTO:-0300
TZNAME:ADT
DTSTART:20240310T060000
END:DAYLIGHT
BEGIN:STANDARD
TZOFFSETFROM:-0300
TZOFFSETTO:-0400
TZNAME:AST
DTSTART:20241103T050000
END:STANDARD
BEGIN:DAYLIGHT
TZOFFSETFROM:-0400
TZOFFSETTO:-0300
TZNAME:ADT
DTSTART:20250309T060000
END:DAYLIGHT
BEGIN:STANDARD
TZOFFSETFROM:-0300
TZOFFSETTO:-0400
TZNAME:AST
DTSTART:20251102T050000
END:STANDARD
BEGIN:DAYLIGHT
TZOFFSETFROM:-0400
TZOFFSETTO:-0300
TZNAME:ADT
DTSTART:20260308T060000
END:DAYLIGHT
BEGIN:STANDARD
TZOFFSETFROM:-0300
TZOFFSETTO:-0400
TZNAME:AST
DTSTART:20261101T050000
END:STANDARD
END:VTIMEZONE
BEGIN:VEVENT
DTSTART;VALUE=DATE:20250203
DTEND;VALUE=DATE:20250204
DTSTAMP:20260423T212112
CREATED:20240621T123409Z
LAST-MODIFIED:20240621T123409Z
UID:10453-1738540800-1738627199@ars-canada.ca
SUMMARY:ARS Canada Organizes Video Competition Celebrating it's 35th  Anniversary
DESCRIPTION:  \n  \n  \n  \n  \n  \n  \n  \n  \n 
URL:https://ars-canada.ca/event/ars-canada-organizes-video-competition-celebrating-35th-anniversary/2025-02-03/
LOCATION:Quebec
CATEGORIES:Cambridge - Meghri,Hamilton - Arev,Laval - Shoushi,Mississauga - Arakasd,Montreal - Sosse,Ottawa - Sevan,St. Catharines - Araz,Toronto - Roubina,Vancouver - Araz,Windsor -Roubina
ATTACH;FMTTYPE=image/jpeg:https://ars-canada.ca/wp-content/uploads/2024/06/thumbnail_տեսերիզի-մրցում_1.jpg
END:VEVENT
BEGIN:VEVENT
DTSTART;VALUE=DATE:20250203
DTEND;VALUE=DATE:20250204
DTSTAMP:20260423T212112
CREATED:20240621T123712Z
LAST-MODIFIED:20240621T123712Z
UID:10527-1738540800-1738627199@ars-canada.ca
SUMMARY:ARS Canada Organizes Art Competition Celebrating it's 35th Anniversary
DESCRIPTION:
URL:https://ars-canada.ca/event/ars-canada-organizes-art-competition-celebrating-35th-anniversary/2025-02-03/
LOCATION:Quebec
CATEGORIES:Cambridge - Meghri,Hamilton - Arev,Laval - Shoushi,Mississauga - Arakasd,Montreal - Sosse,Ottawa - Sevan,St. Catharines - Araz,Toronto - Roubina,Vancouver - Araz,Windsor -Roubina
ATTACH;FMTTYPE=image/jpeg:https://ars-canada.ca/wp-content/uploads/2024/06/thumbnail_գծագրական-մրցում-2_1.jpg
END:VEVENT
BEGIN:VEVENT
DTSTART;VALUE=DATE:20250203
DTEND;VALUE=DATE:20250204
DTSTAMP:20260423T212112
CREATED:20240621T125510Z
LAST-MODIFIED:20240621T125510Z
UID:10482-1738540800-1738627199@ars-canada.ca
SUMMARY:ARS Canada Launches Educational Competition Celebrating it's 35th Anniversary
DESCRIPTION:
URL:https://ars-canada.ca/event/ars-canada-launches-educational-competition-celebrating-its-35th-anniversary/2025-02-03/
LOCATION:Quebec
CATEGORIES:Cambridge - Meghri,Hamilton - Arev,Laval - Shoushi,Mississauga - Arakasd,Montreal - Sosse,Ottawa - Sevan,St. Catharines - Araz,Toronto - Roubina,Vancouver - Araz,Windsor -Roubina
ATTACH;FMTTYPE=image/jpeg:https://ars-canada.ca/wp-content/uploads/2024/06/thumbnail_IMG_7547.jpg
END:VEVENT
BEGIN:VEVENT
DTSTART;TZID=America/Halifax:20250204T193000
DTEND;TZID=America/Halifax:20250204T220000
DTSTAMP:20260423T212112
CREATED:20241021T220810Z
LAST-MODIFIED:20250427T154044Z
UID:10905-1738697400-1738706400@ars-canada.ca
SUMMARY:ARS Montreal Monthly Meeting 2024/2025
DESCRIPTION:ARS Sosse Montreal Chapter Monthly Meeting
URL:https://ars-canada.ca/event/ars-montreal-monthly-meeting-2024-2025/2025-02-04/
LOCATION:ARMENIAN COMMUNITY CENTER OF MONTREAL\, 3401 Olivar-Asselin\, Montreal\, Quebec\, H4J 1L5\, Canada
CATEGORIES:Montreal - Sosse
ATTACH;FMTTYPE=image/jpeg:https://ars-canada.ca/wp-content/uploads/2023/10/thumbnail_Sosse-Chapter-Montreal-Quebec-Monthly-Meeting.jpg
END:VEVENT
BEGIN:VEVENT
DTSTART;VALUE=DATE:20250210
DTEND;VALUE=DATE:20250211
DTSTAMP:20260423T212112
CREATED:20240621T123409Z
LAST-MODIFIED:20240621T123409Z
UID:10454-1739145600-1739231999@ars-canada.ca
SUMMARY:ARS Canada Organizes Video Competition Celebrating it's 35th  Anniversary
DESCRIPTION:  \n  \n  \n  \n  \n  \n  \n  \n  \n 
URL:https://ars-canada.ca/event/ars-canada-organizes-video-competition-celebrating-35th-anniversary/2025-02-10/
LOCATION:Quebec
CATEGORIES:Cambridge - Meghri,Hamilton - Arev,Laval - Shoushi,Mississauga - Arakasd,Montreal - Sosse,Ottawa - Sevan,St. Catharines - Araz,Toronto - Roubina,Vancouver - Araz,Windsor -Roubina
ATTACH;FMTTYPE=image/jpeg:https://ars-canada.ca/wp-content/uploads/2024/06/thumbnail_տեսերիզի-մրցում_1.jpg
END:VEVENT
BEGIN:VEVENT
DTSTART;VALUE=DATE:20250210
DTEND;VALUE=DATE:20250211
DTSTAMP:20260423T212112
CREATED:20240621T123712Z
LAST-MODIFIED:20240621T123712Z
UID:10528-1739145600-1739231999@ars-canada.ca
SUMMARY:ARS Canada Organizes Art Competition Celebrating it's 35th Anniversary
DESCRIPTION:
URL:https://ars-canada.ca/event/ars-canada-organizes-art-competition-celebrating-35th-anniversary/2025-02-10/
LOCATION:Quebec
CATEGORIES:Cambridge - Meghri,Hamilton - Arev,Laval - Shoushi,Mississauga - Arakasd,Montreal - Sosse,Ottawa - Sevan,St. Catharines - Araz,Toronto - Roubina,Vancouver - Araz,Windsor -Roubina
ATTACH;FMTTYPE=image/jpeg:https://ars-canada.ca/wp-content/uploads/2024/06/thumbnail_գծագրական-մրցում-2_1.jpg
END:VEVENT
BEGIN:VEVENT
DTSTART;VALUE=DATE:20250210
DTEND;VALUE=DATE:20250211
DTSTAMP:20260423T212112
CREATED:20240621T125510Z
LAST-MODIFIED:20240621T125510Z
UID:10483-1739145600-1739231999@ars-canada.ca
SUMMARY:ARS Canada Launches Educational Competition Celebrating it's 35th Anniversary
DESCRIPTION:
URL:https://ars-canada.ca/event/ars-canada-launches-educational-competition-celebrating-its-35th-anniversary/2025-02-10/
LOCATION:Quebec
CATEGORIES:Cambridge - Meghri,Hamilton - Arev,Laval - Shoushi,Mississauga - Arakasd,Montreal - Sosse,Ottawa - Sevan,St. Catharines - Araz,Toronto - Roubina,Vancouver - Araz,Windsor -Roubina
ATTACH;FMTTYPE=image/jpeg:https://ars-canada.ca/wp-content/uploads/2024/06/thumbnail_IMG_7547.jpg
END:VEVENT
BEGIN:VEVENT
DTSTART;TZID=America/Halifax:20250211T103000
DTEND;TZID=America/Halifax:20250211T143000
DTSTAMP:20260423T212112
CREATED:20250131T013753Z
LAST-MODIFIED:20250131T014001Z
UID:11150-1739269800-1739284200@ars-canada.ca
SUMMARY:ARS Sosse Social Services Celebrates Valentines 2025
DESCRIPTION:
URL:https://ars-canada.ca/event/ars-sosse-social-services-celebrates-valentines-2025/
LOCATION:ARMENIAN COMMUNITY CENTER OF MONTREAL\, 3401 Olivar-Asselin\, Montreal\, Quebec\, H4J 1L5\, Canada
CATEGORIES:Montreal - Sosse
ATTACH;FMTTYPE=image/jpeg:https://ars-canada.ca/wp-content/uploads/2025/01/f6c950b1-e4c0-a5bb-46ce-c1a9bf97b71d-scaled.jpg
END:VEVENT
BEGIN:VEVENT
DTSTART;VALUE=DATE:20250217
DTEND;VALUE=DATE:20250218
DTSTAMP:20260423T212112
CREATED:20240621T123409Z
LAST-MODIFIED:20240621T123409Z
UID:10455-1739750400-1739836799@ars-canada.ca
SUMMARY:ARS Canada Organizes Video Competition Celebrating it's 35th  Anniversary
DESCRIPTION:  \n  \n  \n  \n  \n  \n  \n  \n  \n 
URL:https://ars-canada.ca/event/ars-canada-organizes-video-competition-celebrating-35th-anniversary/2025-02-17/
LOCATION:Quebec
CATEGORIES:Cambridge - Meghri,Hamilton - Arev,Laval - Shoushi,Mississauga - Arakasd,Montreal - Sosse,Ottawa - Sevan,St. Catharines - Araz,Toronto - Roubina,Vancouver - Araz,Windsor -Roubina
ATTACH;FMTTYPE=image/jpeg:https://ars-canada.ca/wp-content/uploads/2024/06/thumbnail_տեսերիզի-մրցում_1.jpg
END:VEVENT
BEGIN:VEVENT
DTSTART;VALUE=DATE:20250217
DTEND;VALUE=DATE:20250218
DTSTAMP:20260423T212112
CREATED:20240621T123712Z
LAST-MODIFIED:20240621T123712Z
UID:10529-1739750400-1739836799@ars-canada.ca
SUMMARY:ARS Canada Organizes Art Competition Celebrating it's 35th Anniversary
DESCRIPTION:
URL:https://ars-canada.ca/event/ars-canada-organizes-art-competition-celebrating-35th-anniversary/2025-02-17/
LOCATION:Quebec
CATEGORIES:Cambridge - Meghri,Hamilton - Arev,Laval - Shoushi,Mississauga - Arakasd,Montreal - Sosse,Ottawa - Sevan,St. Catharines - Araz,Toronto - Roubina,Vancouver - Araz,Windsor -Roubina
ATTACH;FMTTYPE=image/jpeg:https://ars-canada.ca/wp-content/uploads/2024/06/thumbnail_գծագրական-մրցում-2_1.jpg
END:VEVENT
BEGIN:VEVENT
DTSTART;VALUE=DATE:20250217
DTEND;VALUE=DATE:20250218
DTSTAMP:20260423T212112
CREATED:20240621T125510Z
LAST-MODIFIED:20240621T125510Z
UID:10484-1739750400-1739836799@ars-canada.ca
SUMMARY:ARS Canada Launches Educational Competition Celebrating it's 35th Anniversary
DESCRIPTION:
URL:https://ars-canada.ca/event/ars-canada-launches-educational-competition-celebrating-its-35th-anniversary/2025-02-17/
LOCATION:Quebec
CATEGORIES:Cambridge - Meghri,Hamilton - Arev,Laval - Shoushi,Mississauga - Arakasd,Montreal - Sosse,Ottawa - Sevan,St. Catharines - Araz,Toronto - Roubina,Vancouver - Araz,Windsor -Roubina
ATTACH;FMTTYPE=image/jpeg:https://ars-canada.ca/wp-content/uploads/2024/06/thumbnail_IMG_7547.jpg
END:VEVENT
BEGIN:VEVENT
DTSTART;TZID=America/Halifax:20250223T100000
DTEND;TZID=America/Halifax:20250223T130000
DTSTAMP:20260423T212112
CREATED:20240801T174001Z
LAST-MODIFIED:20240801T174015Z
UID:10635-1740304800-1740315600@ars-canada.ca
SUMMARY:ARS All Chapters  Memorial Service
DESCRIPTION:
URL:https://ars-canada.ca/event/ars-all-chapters-memorial-service/
LOCATION:Quebec
CATEGORIES:Cambridge - Meghri,Hamilton - Arev,Laval - Shoushi,Mississauga - Arakasd,Montreal - Sosse,Ottawa - Sevan,St. Catharines - Araz,Toronto - Roubina,Vancouver - Araz,Windsor -Roubina
ATTACH;FMTTYPE=image/jpeg:https://ars-canada.ca/wp-content/uploads/2023/10/Wreath.jpg
END:VEVENT
BEGIN:VEVENT
DTSTART;VALUE=DATE:20250224
DTEND;VALUE=DATE:20250225
DTSTAMP:20260423T212112
CREATED:20240621T123409Z
LAST-MODIFIED:20240621T123409Z
UID:10456-1740355200-1740441599@ars-canada.ca
SUMMARY:ARS Canada Organizes Video Competition Celebrating it's 35th  Anniversary
DESCRIPTION:  \n  \n  \n  \n  \n  \n  \n  \n  \n 
URL:https://ars-canada.ca/event/ars-canada-organizes-video-competition-celebrating-35th-anniversary/2025-02-24/
LOCATION:Quebec
CATEGORIES:Cambridge - Meghri,Hamilton - Arev,Laval - Shoushi,Mississauga - Arakasd,Montreal - Sosse,Ottawa - Sevan,St. Catharines - Araz,Toronto - Roubina,Vancouver - Araz,Windsor -Roubina
ATTACH;FMTTYPE=image/jpeg:https://ars-canada.ca/wp-content/uploads/2024/06/thumbnail_տեսերիզի-մրցում_1.jpg
END:VEVENT
BEGIN:VEVENT
DTSTART;VALUE=DATE:20250224
DTEND;VALUE=DATE:20250225
DTSTAMP:20260423T212112
CREATED:20240621T123712Z
LAST-MODIFIED:20240621T123712Z
UID:10530-1740355200-1740441599@ars-canada.ca
SUMMARY:ARS Canada Organizes Art Competition Celebrating it's 35th Anniversary
DESCRIPTION:
URL:https://ars-canada.ca/event/ars-canada-organizes-art-competition-celebrating-35th-anniversary/2025-02-24/
LOCATION:Quebec
CATEGORIES:Cambridge - Meghri,Hamilton - Arev,Laval - Shoushi,Mississauga - Arakasd,Montreal - Sosse,Ottawa - Sevan,St. Catharines - Araz,Toronto - Roubina,Vancouver - Araz,Windsor -Roubina
ATTACH;FMTTYPE=image/jpeg:https://ars-canada.ca/wp-content/uploads/2024/06/thumbnail_գծագրական-մրցում-2_1.jpg
END:VEVENT
BEGIN:VEVENT
DTSTART;VALUE=DATE:20250224
DTEND;VALUE=DATE:20250225
DTSTAMP:20260423T212112
CREATED:20240621T125510Z
LAST-MODIFIED:20240621T125510Z
UID:10485-1740355200-1740441599@ars-canada.ca
SUMMARY:ARS Canada Launches Educational Competition Celebrating it's 35th Anniversary
DESCRIPTION:
URL:https://ars-canada.ca/event/ars-canada-launches-educational-competition-celebrating-its-35th-anniversary/2025-02-24/
LOCATION:Quebec
CATEGORIES:Cambridge - Meghri,Hamilton - Arev,Laval - Shoushi,Mississauga - Arakasd,Montreal - Sosse,Ottawa - Sevan,St. Catharines - Araz,Toronto - Roubina,Vancouver - Araz,Windsor -Roubina
ATTACH;FMTTYPE=image/jpeg:https://ars-canada.ca/wp-content/uploads/2024/06/thumbnail_IMG_7547.jpg
END:VEVENT
BEGIN:VEVENT
DTSTART;TZID=America/Halifax:20250225T103000
DTEND;TZID=America/Halifax:20250227T143000
DTSTAMP:20260423T212112
CREATED:20241021T222856Z
LAST-MODIFIED:20250220T141747Z
UID:10914-1740479400-1740666600@ars-canada.ca
SUMMARY:ARS Montreal Chapter Celebrates Vartanants 2025
DESCRIPTION:
URL:https://ars-canada.ca/event/ars-montreal-chapter-celebrates-vartanants-2025/
LOCATION:Quebec
CATEGORIES:Montreal - Sosse
ATTACH;FMTTYPE=image/jpeg:https://ars-canada.ca/wp-content/uploads/2024/10/480618737_937254581847228_3204463341812613413_n.jpg
END:VEVENT
END:VCALENDAR