BEGIN:VCALENDAR
VERSION:2.0
PRODID:-//ARS Canada - ECPv6.15.20//NONSGML v1.0//EN
CALSCALE:GREGORIAN
METHOD:PUBLISH
X-WR-CALNAME:ARS Canada
X-ORIGINAL-URL:https://ars-canada.ca
X-WR-CALDESC:Events for ARS Canada
REFRESH-INTERVAL;VALUE=DURATION:PT1H
X-Robots-Tag:noindex
X-PUBLISHED-TTL:PT1H
BEGIN:VTIMEZONE
TZID:America/Halifax
BEGIN:DAYLIGHT
TZOFFSETFROM:-0400
TZOFFSETTO:-0300
TZNAME:ADT
DTSTART:20240310T060000
END:DAYLIGHT
BEGIN:STANDARD
TZOFFSETFROM:-0300
TZOFFSETTO:-0400
TZNAME:AST
DTSTART:20241103T050000
END:STANDARD
BEGIN:DAYLIGHT
TZOFFSETFROM:-0400
TZOFFSETTO:-0300
TZNAME:ADT
DTSTART:20250309T060000
END:DAYLIGHT
BEGIN:STANDARD
TZOFFSETFROM:-0300
TZOFFSETTO:-0400
TZNAME:AST
DTSTART:20251102T050000
END:STANDARD
BEGIN:DAYLIGHT
TZOFFSETFROM:-0400
TZOFFSETTO:-0300
TZNAME:ADT
DTSTART:20260308T060000
END:DAYLIGHT
BEGIN:STANDARD
TZOFFSETFROM:-0300
TZOFFSETTO:-0400
TZNAME:AST
DTSTART:20261101T050000
END:STANDARD
END:VTIMEZONE
BEGIN:VEVENT
DTSTART;TZID=America/Halifax:20250603T193000
DTEND;TZID=America/Halifax:20250603T220000
DTSTAMP:20260423T131238
CREATED:20241021T220810Z
LAST-MODIFIED:20250427T154045Z
UID:10909-1748979000-1748988000@ars-canada.ca
SUMMARY:ARS Montreal Monthly Meeting 2024/2025
DESCRIPTION:ARS Sosse Montreal Chapter Monthly Meeting
URL:https://ars-canada.ca/event/ars-montreal-monthly-meeting-2024-2025/2025-06-03/
LOCATION:ARMENIAN COMMUNITY CENTER OF MONTREAL\, 3401 Olivar-Asselin\, Montreal\, Quebec\, H4J 1L5\, Canada
CATEGORIES:Montreal - Sosse
ATTACH;FMTTYPE=image/jpeg:https://ars-canada.ca/wp-content/uploads/2023/10/thumbnail_Sosse-Chapter-Montreal-Quebec-Monthly-Meeting.jpg
END:VEVENT
BEGIN:VEVENT
DTSTART;VALUE=DATE:20250609
DTEND;VALUE=DATE:20250610
DTSTAMP:20260423T131238
CREATED:20250612T234423Z
LAST-MODIFIED:20250612T234423Z
UID:11545-1749427200-1749513599@ars-canada.ca
SUMMARY:ARS Scholarship 2025 - DEADLINE Aug 31\, 2025
DESCRIPTION:
URL:https://ars-canada.ca/event/ars-scholarship-2025-deadline-aug-31-2025/2025-06-09/
LOCATION:Virtual On-line
CATEGORIES:Cambridge - Meghri,Hamilton - Arev,Laval - Shoushi,Mississauga - Arakasd,Montreal - Sosse,Ottawa - Sevan,St. Catharines - Araz,Toronto - Roubina,Vancouver - Araz,Windsor -Roubina
ATTACH;FMTTYPE=image/jpeg:https://ars-canada.ca/wp-content/uploads/2025/06/503587849_1096632682502510_9181627166137812762_n-e1749772654571.jpg
END:VEVENT
BEGIN:VEVENT
DTSTART;VALUE=DATE:20250616
DTEND;VALUE=DATE:20250617
DTSTAMP:20260423T131238
CREATED:20250612T234423Z
LAST-MODIFIED:20250612T234423Z
UID:11548-1750032000-1750118399@ars-canada.ca
SUMMARY:ARS Scholarship 2025 - DEADLINE Aug 31\, 2025
DESCRIPTION:
URL:https://ars-canada.ca/event/ars-scholarship-2025-deadline-aug-31-2025/2025-06-16/
LOCATION:Virtual On-line
CATEGORIES:Cambridge - Meghri,Hamilton - Arev,Laval - Shoushi,Mississauga - Arakasd,Montreal - Sosse,Ottawa - Sevan,St. Catharines - Araz,Toronto - Roubina,Vancouver - Araz,Windsor -Roubina
ATTACH;FMTTYPE=image/jpeg:https://ars-canada.ca/wp-content/uploads/2025/06/503587849_1096632682502510_9181627166137812762_n-e1749772654571.jpg
END:VEVENT
BEGIN:VEVENT
DTSTART;TZID=America/Halifax:20250619T190000
DTEND;TZID=America/Halifax:20250619T230000
DTSTAMP:20260423T131238
CREATED:20250607T171430Z
LAST-MODIFIED:20250607T171430Z
UID:11541-1750359600-1750374000@ars-canada.ca
SUMMARY:ARS Montreal Sosse Chapter Celebrates it's Volunteers with Greek Night
DESCRIPTION:
URL:https://ars-canada.ca/event/ars-montreal-sosse-chapter-celebrates-its-volunteers-with-greek-night/
LOCATION:ARMENIAN COMMUNITY CENTER OF MONTREAL\, 3401 Olivar-Asselin\, Montreal\, Quebec\, H4J 1L5\, Canada
CATEGORIES:Montreal - Sosse
ATTACH;FMTTYPE=image/png:https://ars-canada.ca/wp-content/uploads/2025/06/ARS-Appreciation-Dinner-Greece.png-e1749316407601.png
END:VEVENT
BEGIN:VEVENT
DTSTART;VALUE=DATE:20250623
DTEND;VALUE=DATE:20250624
DTSTAMP:20260423T131238
CREATED:20250612T234423Z
LAST-MODIFIED:20250612T234423Z
UID:11549-1750636800-1750723199@ars-canada.ca
SUMMARY:ARS Scholarship 2025 - DEADLINE Aug 31\, 2025
DESCRIPTION:
URL:https://ars-canada.ca/event/ars-scholarship-2025-deadline-aug-31-2025/2025-06-23/
LOCATION:Virtual On-line
CATEGORIES:Cambridge - Meghri,Hamilton - Arev,Laval - Shoushi,Mississauga - Arakasd,Montreal - Sosse,Ottawa - Sevan,St. Catharines - Araz,Toronto - Roubina,Vancouver - Araz,Windsor -Roubina
ATTACH;FMTTYPE=image/jpeg:https://ars-canada.ca/wp-content/uploads/2025/06/503587849_1096632682502510_9181627166137812762_n-e1749772654571.jpg
END:VEVENT
BEGIN:VEVENT
DTSTART;VALUE=DATE:20250630
DTEND;VALUE=DATE:20250701
DTSTAMP:20260423T131238
CREATED:20250612T234423Z
LAST-MODIFIED:20250612T234423Z
UID:11550-1751241600-1751327999@ars-canada.ca
SUMMARY:ARS Scholarship 2025 - DEADLINE Aug 31\, 2025
DESCRIPTION:
URL:https://ars-canada.ca/event/ars-scholarship-2025-deadline-aug-31-2025/2025-06-30/
LOCATION:Virtual On-line
CATEGORIES:Cambridge - Meghri,Hamilton - Arev,Laval - Shoushi,Mississauga - Arakasd,Montreal - Sosse,Ottawa - Sevan,St. Catharines - Araz,Toronto - Roubina,Vancouver - Araz,Windsor -Roubina
ATTACH;FMTTYPE=image/jpeg:https://ars-canada.ca/wp-content/uploads/2025/06/503587849_1096632682502510_9181627166137812762_n-e1749772654571.jpg
END:VEVENT
END:VCALENDAR