BEGIN:VCALENDAR
VERSION:2.0
PRODID:-//ARS Canada - ECPv6.15.20//NONSGML v1.0//EN
CALSCALE:GREGORIAN
METHOD:PUBLISH
X-ORIGINAL-URL:https://ars-canada.ca
X-WR-CALDESC:Events for ARS Canada
REFRESH-INTERVAL;VALUE=DURATION:PT1H
X-Robots-Tag:noindex
X-PUBLISHED-TTL:PT1H
BEGIN:VTIMEZONE
TZID:America/Halifax
BEGIN:DAYLIGHT
TZOFFSETFROM:-0400
TZOFFSETTO:-0300
TZNAME:ADT
DTSTART:20220313T060000
END:DAYLIGHT
BEGIN:STANDARD
TZOFFSETFROM:-0300
TZOFFSETTO:-0400
TZNAME:AST
DTSTART:20221106T050000
END:STANDARD
BEGIN:DAYLIGHT
TZOFFSETFROM:-0400
TZOFFSETTO:-0300
TZNAME:ADT
DTSTART:20230312T060000
END:DAYLIGHT
BEGIN:STANDARD
TZOFFSETFROM:-0300
TZOFFSETTO:-0400
TZNAME:AST
DTSTART:20231105T050000
END:STANDARD
BEGIN:DAYLIGHT
TZOFFSETFROM:-0400
TZOFFSETTO:-0300
TZNAME:ADT
DTSTART:20240310T060000
END:DAYLIGHT
BEGIN:STANDARD
TZOFFSETFROM:-0300
TZOFFSETTO:-0400
TZNAME:AST
DTSTART:20241103T050000
END:STANDARD
END:VTIMEZONE
BEGIN:VEVENT
DTSTART;TZID=America/Halifax:20230706T190000
DTEND;TZID=America/Halifax:20230706T230000
DTSTAMP:20260425T155440
CREATED:20230622T173056Z
LAST-MODIFIED:20230622T173156Z
UID:8647-1688670000-1688684400@ars-canada.ca
SUMMARY:ARS Montreal Sosse Chapter Organizes an Evening Honoring our Volunteers
DESCRIPTION:
URL:https://ars-canada.ca/event/ars-montreal-sosse-chapter-organizes-an-evening-honoring-our-volunteers/
LOCATION:ARMENIAN COMMUNITY CENTER OF MONTREAL\, 3401 Olivar-Asselin\, Montreal\, Quebec\, H4J 1L5\, Canada
CATEGORIES:Montreal - Sosse
ATTACH;FMTTYPE=image/jpeg:https://ars-canada.ca/wp-content/uploads/2023/06/f8aa091b-16ff-1b0f-4e54-65b071b3de38.jpg
END:VEVENT
END:VCALENDAR