BEGIN:VCALENDAR
VERSION:2.0
PRODID:-//ARS Canada - ECPv6.15.20//NONSGML v1.0//EN
CALSCALE:GREGORIAN
METHOD:PUBLISH
X-ORIGINAL-URL:https://ars-canada.ca
X-WR-CALDESC:Events for ARS Canada
REFRESH-INTERVAL;VALUE=DURATION:PT1H
X-Robots-Tag:noindex
X-PUBLISHED-TTL:PT1H
BEGIN:VTIMEZONE
TZID:America/Halifax
BEGIN:DAYLIGHT
TZOFFSETFROM:-0400
TZOFFSETTO:-0300
TZNAME:ADT
DTSTART:20230312T060000
END:DAYLIGHT
BEGIN:STANDARD
TZOFFSETFROM:-0300
TZOFFSETTO:-0400
TZNAME:AST
DTSTART:20231105T050000
END:STANDARD
BEGIN:DAYLIGHT
TZOFFSETFROM:-0400
TZOFFSETTO:-0300
TZNAME:ADT
DTSTART:20240310T060000
END:DAYLIGHT
BEGIN:STANDARD
TZOFFSETFROM:-0300
TZOFFSETTO:-0400
TZNAME:AST
DTSTART:20241103T050000
END:STANDARD
BEGIN:DAYLIGHT
TZOFFSETFROM:-0400
TZOFFSETTO:-0300
TZNAME:ADT
DTSTART:20250309T060000
END:DAYLIGHT
BEGIN:STANDARD
TZOFFSETFROM:-0300
TZOFFSETTO:-0400
TZNAME:AST
DTSTART:20251102T050000
END:STANDARD
END:VTIMEZONE
BEGIN:VEVENT
DTSTART;TZID=America/Halifax:20240507T103000
DTEND;TZID=America/Halifax:20240507T143000
DTSTAMP:20260424T182344
CREATED:20240412T232746Z
LAST-MODIFIED:20240412T232746Z
UID:9723-1715077800-1715092200@ars-canada.ca
SUMMARY:ARS Montreal Sosse Chapter Mother's Day Celebration
DESCRIPTION:
URL:https://ars-canada.ca/event/ars-montreal-sosse-chapter-mothers-day-celebration/
LOCATION:ARMENIAN COMMUNITY CENTER OF MONTREAL\, 3401 Olivar-Asselin\, Montreal\, Quebec\, H4J 1L5\, Canada
CATEGORIES:Montreal - Sosse
ATTACH;FMTTYPE=image/jpeg:https://ars-canada.ca/wp-content/uploads/2024/04/mothers-day-scaled-e1712964405795.jpg
END:VEVENT
BEGIN:VEVENT
DTSTART;TZID=America/Halifax:20240507T193000
DTEND;TZID=America/Halifax:20240507T223000
DTSTAMP:20260424T182344
CREATED:20231001T192520Z
LAST-MODIFIED:20240328T121412Z
UID:9135-1715110200-1715121000@ars-canada.ca
SUMMARY:ARS Montreal Sosse Chapter General Meeting
DESCRIPTION:
URL:https://ars-canada.ca/event/ars-montreal-sosse-chapter-general-meeting-4/2024-05-07/
LOCATION:ARMENIAN COMMUNITY CENTER OF MONTREAL\, 3401 Olivar-Asselin\, Montreal\, Quebec\, H4J 1L5\, Canada
CATEGORIES:Montreal - Sosse
ATTACH;FMTTYPE=image/jpeg:https://ars-canada.ca/wp-content/uploads/2023/10/thumbnail_Sosse-Chapter-Montreal-Quebec-Monthly-Meeting.jpg
END:VEVENT
END:VCALENDAR