BEGIN:VCALENDAR
VERSION:2.0
PRODID:-//ARS Canada - ECPv6.15.20//NONSGML v1.0//EN
CALSCALE:GREGORIAN
METHOD:PUBLISH
X-ORIGINAL-URL:https://ars-canada.ca
X-WR-CALDESC:Events for ARS Canada
REFRESH-INTERVAL;VALUE=DURATION:PT1H
X-Robots-Tag:noindex
X-PUBLISHED-TTL:PT1H
BEGIN:VTIMEZONE
TZID:America/Halifax
BEGIN:DAYLIGHT
TZOFFSETFROM:-0400
TZOFFSETTO:-0300
TZNAME:ADT
DTSTART:20230312T060000
END:DAYLIGHT
BEGIN:STANDARD
TZOFFSETFROM:-0300
TZOFFSETTO:-0400
TZNAME:AST
DTSTART:20231105T050000
END:STANDARD
BEGIN:DAYLIGHT
TZOFFSETFROM:-0400
TZOFFSETTO:-0300
TZNAME:ADT
DTSTART:20240310T060000
END:DAYLIGHT
BEGIN:STANDARD
TZOFFSETFROM:-0300
TZOFFSETTO:-0400
TZNAME:AST
DTSTART:20241103T050000
END:STANDARD
BEGIN:DAYLIGHT
TZOFFSETFROM:-0400
TZOFFSETTO:-0300
TZNAME:ADT
DTSTART:20250309T060000
END:DAYLIGHT
BEGIN:STANDARD
TZOFFSETFROM:-0300
TZOFFSETTO:-0400
TZNAME:AST
DTSTART:20251102T050000
END:STANDARD
END:VTIMEZONE
BEGIN:VEVENT
DTSTART;TZID=America/Halifax:20241123T200000
DTEND;TZID=America/Halifax:20241123T223000
DTSTAMP:20260424T060617
CREATED:20241002T133559Z
LAST-MODIFIED:20241002T133721Z
UID:10801-1732392000-1732401000@ars-canada.ca
SUMMARY:Zulal Concert to Help Raise Funds for ARS Canada Scholarship Program
DESCRIPTION:
URL:https://ars-canada.ca/event/zullal-concert-to-help-raise-funds-for-ars-canada-scholarship/
LOCATION:Ecole Armenienne Sourp Hagop\, 3400 Rue Nadon\, Montréal\, Quebec\, H4J 1P6\, Canada
CATEGORIES:Laval - Shoushi,Montreal - Sosse
ATTACH;FMTTYPE=image/jpeg:https://ars-canada.ca/wp-content/uploads/2024/10/460818509_908617781304002_4567873312018927779_n.jpg
END:VEVENT
END:VCALENDAR