BEGIN:VCALENDAR
VERSION:2.0
PRODID:-//ARS Canada - ECPv6.15.20//NONSGML v1.0//EN
CALSCALE:GREGORIAN
METHOD:PUBLISH
X-ORIGINAL-URL:https://ars-canada.ca
X-WR-CALDESC:Events for ARS Canada
REFRESH-INTERVAL;VALUE=DURATION:PT1H
X-Robots-Tag:noindex
X-PUBLISHED-TTL:PT1H
BEGIN:VTIMEZONE
TZID:America/Halifax
BEGIN:DAYLIGHT
TZOFFSETFROM:-0400
TZOFFSETTO:-0300
TZNAME:ADT
DTSTART:20240310T060000
END:DAYLIGHT
BEGIN:STANDARD
TZOFFSETFROM:-0300
TZOFFSETTO:-0400
TZNAME:AST
DTSTART:20241103T050000
END:STANDARD
BEGIN:DAYLIGHT
TZOFFSETFROM:-0400
TZOFFSETTO:-0300
TZNAME:ADT
DTSTART:20250309T060000
END:DAYLIGHT
BEGIN:STANDARD
TZOFFSETFROM:-0300
TZOFFSETTO:-0400
TZNAME:AST
DTSTART:20251102T050000
END:STANDARD
BEGIN:DAYLIGHT
TZOFFSETFROM:-0400
TZOFFSETTO:-0300
TZNAME:ADT
DTSTART:20260308T060000
END:DAYLIGHT
BEGIN:STANDARD
TZOFFSETFROM:-0300
TZOFFSETTO:-0400
TZNAME:AST
DTSTART:20261101T050000
END:STANDARD
END:VTIMEZONE
BEGIN:VEVENT
DTSTART;TZID=America/Halifax:20250330T100000
DTEND;TZID=America/Halifax:20250330T130000
DTSTAMP:20260423T230004
CREATED:20250309T014249Z
LAST-MODIFIED:20250309T015216Z
UID:11340-1743328800-1743339600@ars-canada.ca
SUMMARY:ARS Montreal Sosse Chapter Presents Empowerment Through Knowledge Series
DESCRIPTION:  \n  \n  \n  \n  \n  \n  \n  \n  \n  \n  \n  \n  \n  \n  \n  \n  \n  \n  \nto Register Please go to link : \nhttps://docs.google.com/forms/d/e/1FAIpQLSc2Vz6-0cLHa3Qq6GXywicoAdITe_oaAEx6E1_niCSh8yVuRQ/viewform \n 
URL:https://ars-canada.ca/event/ars-montreal-sosse-chapter-presents-empowerment-through-knowledge-series/
LOCATION:Ecole Armenienne Sourp Hagop\, 3400 Rue Nadon\, Montréal\, Quebec\, H4J 1P6\, Canada
CATEGORIES:Montreal - Sosse
ATTACH;FMTTYPE=image/jpeg:https://ars-canada.ca/wp-content/uploads/2025/03/thumbnail_image_123650291-e1741485121858.jpg
END:VEVENT
END:VCALENDAR