BEGIN:VCALENDAR
VERSION:2.0
PRODID:-//ARS Canada - ECPv6.15.20//NONSGML v1.0//EN
CALSCALE:GREGORIAN
METHOD:PUBLISH
X-ORIGINAL-URL:https://ars-canada.ca
X-WR-CALDESC:Events for ARS Canada
REFRESH-INTERVAL;VALUE=DURATION:PT1H
X-Robots-Tag:noindex
X-PUBLISHED-TTL:PT1H
BEGIN:VTIMEZONE
TZID:America/Halifax
BEGIN:DAYLIGHT
TZOFFSETFROM:-0400
TZOFFSETTO:-0300
TZNAME:ADT
DTSTART:20240310T060000
END:DAYLIGHT
BEGIN:STANDARD
TZOFFSETFROM:-0300
TZOFFSETTO:-0400
TZNAME:AST
DTSTART:20241103T050000
END:STANDARD
BEGIN:DAYLIGHT
TZOFFSETFROM:-0400
TZOFFSETTO:-0300
TZNAME:ADT
DTSTART:20250309T060000
END:DAYLIGHT
BEGIN:STANDARD
TZOFFSETFROM:-0300
TZOFFSETTO:-0400
TZNAME:AST
DTSTART:20251102T050000
END:STANDARD
BEGIN:DAYLIGHT
TZOFFSETFROM:-0400
TZOFFSETTO:-0300
TZNAME:ADT
DTSTART:20260308T060000
END:DAYLIGHT
BEGIN:STANDARD
TZOFFSETFROM:-0300
TZOFFSETTO:-0400
TZNAME:AST
DTSTART:20261101T050000
END:STANDARD
END:VTIMEZONE
BEGIN:VEVENT
DTSTART;TZID=America/Halifax:20251201T110000
DTEND;TZID=America/Halifax:20251201T140000
DTSTAMP:20260424T125940
CREATED:20251024T144651Z
LAST-MODIFIED:20251024T145422Z
UID:11934-1764586800-1764597600@ars-canada.ca
SUMMARY:ARS Laval Shoushi Chapter Organizes Needlepoint Classes
DESCRIPTION:
URL:https://ars-canada.ca/event/arslaval-shoushi-chapter-organizes-needlepoint-classes/2025-12-01/
LOCATION:ACC Laval\, 397 Bd Des Prairies\, Laval\, Quebec\, H7N 2W6\, Canada
CATEGORIES:Laval - Shoushi
ATTACH;FMTTYPE=image/jpeg:https://ars-canada.ca/wp-content/uploads/2025/10/asegh-e1761317103416.jpg
END:VEVENT
BEGIN:VEVENT
DTSTART;TZID=America/Halifax:20251201T190000
DTEND;TZID=America/Halifax:20251201T220000
DTSTAMP:20260424T125940
CREATED:20251024T144651Z
LAST-MODIFIED:20251024T145422Z
UID:11954-1764615600-1764626400@ars-canada.ca
SUMMARY:ARS Laval Shoushi Chapter Organizes Needlepoint Classes
DESCRIPTION:
URL:https://ars-canada.ca/event/arslaval-shoushi-chapter-organizes-needlepoint-classes/2025-12-01/
LOCATION:ACC Laval\, 397 Bd Des Prairies\, Laval\, Quebec\, H7N 2W6\, Canada
CATEGORIES:Laval - Shoushi
ATTACH;FMTTYPE=image/jpeg:https://ars-canada.ca/wp-content/uploads/2025/10/asegh-e1761317103416.jpg
END:VEVENT
BEGIN:VEVENT
DTSTART;TZID=America/Halifax:20251203T193000
DTEND;TZID=America/Halifax:20251203T220000
DTSTAMP:20260424T125940
CREATED:20251009T133617Z
LAST-MODIFIED:20260120T165214Z
UID:11750-1764790200-1764799200@ars-canada.ca
SUMMARY:ARS Laval Shoushi Chapter Monthly Meeting
DESCRIPTION:
URL:https://ars-canada.ca/event/ars-laval-shoushi-chapter/2025-12-03/
LOCATION:ACC Laval\, 397 Bd Des Prairies\, Laval\, Quebec\, H7N 2W6\, Canada
CATEGORIES:Laval - Shoushi
ATTACH;FMTTYPE=image/png:https://ars-canada.ca/wp-content/uploads/2025/10/Blue-Work-From-Home-Reminder-Instagram-Post.png
END:VEVENT
BEGIN:VEVENT
DTSTART;TZID=America/Halifax:20251206T100000
DTEND;TZID=America/Halifax:20251206T170000
DTSTAMP:20260424T125940
CREATED:20251009T135614Z
LAST-MODIFIED:20251024T150409Z
UID:11776-1765015200-1765040400@ars-canada.ca
SUMMARY:ARS Laval Shoushi Chapter Annual Bazaar
DESCRIPTION:
URL:https://ars-canada.ca/event/ars-laval-shoushi-chapter-annual-bazaar/2025-12-06/
LOCATION:ACC Laval\, 397 Bd Des Prairies\, Laval\, Quebec\, H7N 2W6\, Canada
CATEGORIES:Laval - Shoushi
ATTACH;FMTTYPE=image/jpeg:https://ars-canada.ca/wp-content/uploads/2025/10/Christmas-e1769564704674.jpg
END:VEVENT
BEGIN:VEVENT
DTSTART;TZID=America/Halifax:20251207T100000
DTEND;TZID=America/Halifax:20251207T150000
DTSTAMP:20260424T125940
CREATED:20251009T135614Z
LAST-MODIFIED:20251009T135614Z
UID:11971-1765101600-1765119600@ars-canada.ca
SUMMARY:ARS Laval Shoushi Chapter Annual Bazaar
DESCRIPTION:
URL:https://ars-canada.ca/event/ars-laval-shoushi-chapter-annual-bazaar/2025-12-07/
LOCATION:ACC Laval\, 397 Bd Des Prairies\, Laval\, Quebec\, H7N 2W6\, Canada
CATEGORIES:Laval - Shoushi
ATTACH;FMTTYPE=image/jpeg:https://ars-canada.ca/wp-content/uploads/2025/10/Christmas-e1769564704674.jpg
END:VEVENT
BEGIN:VEVENT
DTSTART;TZID=America/Halifax:20251207T140000
DTEND;TZID=America/Halifax:20251207T163000
DTSTAMP:20260424T125940
CREATED:20251009T145524Z
LAST-MODIFIED:20251024T151212Z
UID:11815-1765116000-1765125000@ars-canada.ca
SUMMARY:ARS Montreal Sosse Chapter Annual Children's Christmas Party
DESCRIPTION:
URL:https://ars-canada.ca/event/aes-montreal-sosse-chapter-annual-childrens-christmas-party/
LOCATION:ARMENIAN COMMUNITY CENTER OF MONTREAL\, 3401 Olivar-Asselin\, Montreal\, Quebec\, H4J 1L5\, Canada
CATEGORIES:Montreal - Sosse
ATTACH;FMTTYPE=image/jpeg:https://ars-canada.ca/wp-content/uploads/2025/10/childrens-christmas-1-e1761318558115.jpg
END:VEVENT
BEGIN:VEVENT
DTSTART;TZID=America/Halifax:20251208T110000
DTEND;TZID=America/Halifax:20251208T140000
DTSTAMP:20260424T125940
CREATED:20251024T144651Z
LAST-MODIFIED:20251024T145427Z
UID:11935-1765191600-1765202400@ars-canada.ca
SUMMARY:ARS Laval Shoushi Chapter Organizes Needlepoint Classes
DESCRIPTION:
URL:https://ars-canada.ca/event/arslaval-shoushi-chapter-organizes-needlepoint-classes/2025-12-08/
LOCATION:ACC Laval\, 397 Bd Des Prairies\, Laval\, Quebec\, H7N 2W6\, Canada
CATEGORIES:Laval - Shoushi
ATTACH;FMTTYPE=image/jpeg:https://ars-canada.ca/wp-content/uploads/2025/10/asegh-e1761317103416.jpg
END:VEVENT
BEGIN:VEVENT
DTSTART;TZID=America/Halifax:20251208T190000
DTEND;TZID=America/Halifax:20251208T220000
DTSTAMP:20260424T125940
CREATED:20251024T144651Z
LAST-MODIFIED:20251024T145427Z
UID:11955-1765220400-1765231200@ars-canada.ca
SUMMARY:ARS Laval Shoushi Chapter Organizes Needlepoint Classes
DESCRIPTION:
URL:https://ars-canada.ca/event/arslaval-shoushi-chapter-organizes-needlepoint-classes/2025-12-08/
LOCATION:ACC Laval\, 397 Bd Des Prairies\, Laval\, Quebec\, H7N 2W6\, Canada
CATEGORIES:Laval - Shoushi
ATTACH;FMTTYPE=image/jpeg:https://ars-canada.ca/wp-content/uploads/2025/10/asegh-e1761317103416.jpg
END:VEVENT
BEGIN:VEVENT
DTSTART;TZID=America/Halifax:20251213T100000
DTEND;TZID=America/Halifax:20251213T120000
DTSTAMP:20260424T125940
CREATED:20251009T135725Z
LAST-MODIFIED:20251024T144312Z
UID:11778-1765620000-1765627200@ars-canada.ca
SUMMARY:ARS Laval Shoushi Chapter Childrens Christmas Party
DESCRIPTION:
URL:https://ars-canada.ca/event/ars-laval-shoushi-chapter-childrens-christmas-party/2025-12-13/
LOCATION:Ecole Armenienne Sourp Hagop\, 3400 Rue Nadon\, Montréal\, Quebec\, H4J 1P6\, Canada
CATEGORIES:Laval - Shoushi
ATTACH;FMTTYPE=image/jpeg:https://ars-canada.ca/wp-content/uploads/2025/10/christmas-children-e1761316978711.jpg
END:VEVENT
BEGIN:VEVENT
DTSTART;TZID=America/Halifax:20251214T110000
DTEND;TZID=America/Halifax:20251214T140000
DTSTAMP:20260424T125940
CREATED:20251125T185819Z
LAST-MODIFIED:20251125T185819Z
UID:12031-1765710000-1765720800@ars-canada.ca
SUMMARY:ARS Toronto "Roubina" Chapter's Mini Christmas Market
DESCRIPTION:
URL:https://ars-canada.ca/event/ars-toronto-roubina-chapters-mini-christmas-market/
LOCATION:ACC Toronto\, 45 Hallcrown Pl.\, Toronto\, Ontario\, M2J 4Y4\, Canada
CATEGORIES:Toronto - Roubina
ATTACH;FMTTYPE=image/png:https://ars-canada.ca/wp-content/uploads/2025/11/Mini-Market.png
END:VEVENT
BEGIN:VEVENT
DTSTART;TZID=America/Halifax:20251215T110000
DTEND;TZID=America/Halifax:20251215T140000
DTSTAMP:20260424T125940
CREATED:20251024T144651Z
LAST-MODIFIED:20251024T145427Z
UID:11936-1765796400-1765807200@ars-canada.ca
SUMMARY:ARS Laval Shoushi Chapter Organizes Needlepoint Classes
DESCRIPTION:
URL:https://ars-canada.ca/event/arslaval-shoushi-chapter-organizes-needlepoint-classes/2025-12-15/
LOCATION:ACC Laval\, 397 Bd Des Prairies\, Laval\, Quebec\, H7N 2W6\, Canada
CATEGORIES:Laval - Shoushi
ATTACH;FMTTYPE=image/jpeg:https://ars-canada.ca/wp-content/uploads/2025/10/asegh-e1761317103416.jpg
END:VEVENT
BEGIN:VEVENT
DTSTART;TZID=America/Halifax:20251215T190000
DTEND;TZID=America/Halifax:20251215T220000
DTSTAMP:20260424T125940
CREATED:20251024T144651Z
LAST-MODIFIED:20251024T145427Z
UID:11956-1765825200-1765836000@ars-canada.ca
SUMMARY:ARS Laval Shoushi Chapter Organizes Needlepoint Classes
DESCRIPTION:
URL:https://ars-canada.ca/event/arslaval-shoushi-chapter-organizes-needlepoint-classes/2025-12-15/
LOCATION:ACC Laval\, 397 Bd Des Prairies\, Laval\, Quebec\, H7N 2W6\, Canada
CATEGORIES:Laval - Shoushi
ATTACH;FMTTYPE=image/jpeg:https://ars-canada.ca/wp-content/uploads/2025/10/asegh-e1761317103416.jpg
END:VEVENT
BEGIN:VEVENT
DTSTART;TZID=America/Halifax:20251216T103000
DTEND;TZID=America/Halifax:20251216T143000
DTSTAMP:20260424T125940
CREATED:20251211T150849Z
LAST-MODIFIED:20251211T150849Z
UID:12093-1765881000-1765895400@ars-canada.ca
SUMMARY:ARS Montreal Social Committee Annual Christmas
DESCRIPTION:
URL:https://ars-canada.ca/event/ars-montreal-social-committee-annual-christmas/
LOCATION:Quebec
CATEGORIES:Montreal - Sosse
ATTACH;FMTTYPE=image/jpeg:https://ars-canada.ca/wp-content/uploads/2025/12/social.jpg
END:VEVENT
BEGIN:VEVENT
DTSTART;TZID=America/Halifax:20251218T190000
DTEND;TZID=America/Halifax:20251218T223000
DTSTAMP:20260424T125940
CREATED:20251208T200530Z
LAST-MODIFIED:20251208T200530Z
UID:12083-1766084400-1766097000@ars-canada.ca
SUMMARY:ARS Laval Shoushi Chapter's Social Committee Celebrates New Year
DESCRIPTION:
URL:https://ars-canada.ca/event/ars-laval-shoushi-chapters-social-committee-celebrates-new-year/
LOCATION:Quebec
CATEGORIES:Laval - Shoushi
ATTACH;FMTTYPE=image/jpeg:https://ars-canada.ca/wp-content/uploads/2025/12/dec-18.jpg
END:VEVENT
BEGIN:VEVENT
DTSTART;TZID=America/Halifax:20251222T110000
DTEND;TZID=America/Halifax:20251222T140000
DTSTAMP:20260424T125940
CREATED:20251024T144651Z
LAST-MODIFIED:20251024T145428Z
UID:11937-1766401200-1766412000@ars-canada.ca
SUMMARY:ARS Laval Shoushi Chapter Organizes Needlepoint Classes
DESCRIPTION:
URL:https://ars-canada.ca/event/arslaval-shoushi-chapter-organizes-needlepoint-classes/2025-12-22/
LOCATION:ACC Laval\, 397 Bd Des Prairies\, Laval\, Quebec\, H7N 2W6\, Canada
CATEGORIES:Laval - Shoushi
ATTACH;FMTTYPE=image/jpeg:https://ars-canada.ca/wp-content/uploads/2025/10/asegh-e1761317103416.jpg
END:VEVENT
BEGIN:VEVENT
DTSTART;TZID=America/Halifax:20251222T190000
DTEND;TZID=America/Halifax:20251222T220000
DTSTAMP:20260424T125940
CREATED:20251024T144651Z
LAST-MODIFIED:20251024T145428Z
UID:11957-1766430000-1766440800@ars-canada.ca
SUMMARY:ARS Laval Shoushi Chapter Organizes Needlepoint Classes
DESCRIPTION:
URL:https://ars-canada.ca/event/arslaval-shoushi-chapter-organizes-needlepoint-classes/2025-12-22/
LOCATION:ACC Laval\, 397 Bd Des Prairies\, Laval\, Quebec\, H7N 2W6\, Canada
CATEGORIES:Laval - Shoushi
ATTACH;FMTTYPE=image/jpeg:https://ars-canada.ca/wp-content/uploads/2025/10/asegh-e1761317103416.jpg
END:VEVENT
BEGIN:VEVENT
DTSTART;TZID=America/Halifax:20251229T110000
DTEND;TZID=America/Halifax:20251229T140000
DTSTAMP:20260424T125940
CREATED:20251024T144651Z
LAST-MODIFIED:20251024T145428Z
UID:11938-1767006000-1767016800@ars-canada.ca
SUMMARY:ARS Laval Shoushi Chapter Organizes Needlepoint Classes
DESCRIPTION:
URL:https://ars-canada.ca/event/arslaval-shoushi-chapter-organizes-needlepoint-classes/2025-12-29/
LOCATION:ACC Laval\, 397 Bd Des Prairies\, Laval\, Quebec\, H7N 2W6\, Canada
CATEGORIES:Laval - Shoushi
ATTACH;FMTTYPE=image/jpeg:https://ars-canada.ca/wp-content/uploads/2025/10/asegh-e1761317103416.jpg
END:VEVENT
BEGIN:VEVENT
DTSTART;TZID=America/Halifax:20251229T190000
DTEND;TZID=America/Halifax:20251229T220000
DTSTAMP:20260424T125940
CREATED:20251024T144651Z
LAST-MODIFIED:20251024T145429Z
UID:11958-1767034800-1767045600@ars-canada.ca
SUMMARY:ARS Laval Shoushi Chapter Organizes Needlepoint Classes
DESCRIPTION:
URL:https://ars-canada.ca/event/arslaval-shoushi-chapter-organizes-needlepoint-classes/2025-12-29/
LOCATION:ACC Laval\, 397 Bd Des Prairies\, Laval\, Quebec\, H7N 2W6\, Canada
CATEGORIES:Laval - Shoushi
ATTACH;FMTTYPE=image/jpeg:https://ars-canada.ca/wp-content/uploads/2025/10/asegh-e1761317103416.jpg
END:VEVENT
END:VCALENDAR