BEGIN:VCALENDAR
VERSION:2.0
PRODID:-//ARS Canada - ECPv6.15.20//NONSGML v1.0//EN
CALSCALE:GREGORIAN
METHOD:PUBLISH
X-ORIGINAL-URL:https://ars-canada.ca
X-WR-CALDESC:Events for ARS Canada
REFRESH-INTERVAL;VALUE=DURATION:PT1H
X-Robots-Tag:noindex
X-PUBLISHED-TTL:PT1H
BEGIN:VTIMEZONE
TZID:America/Halifax
BEGIN:DAYLIGHT
TZOFFSETFROM:-0400
TZOFFSETTO:-0300
TZNAME:ADT
DTSTART:20210314T060000
END:DAYLIGHT
BEGIN:STANDARD
TZOFFSETFROM:-0300
TZOFFSETTO:-0400
TZNAME:AST
DTSTART:20211107T050000
END:STANDARD
BEGIN:DAYLIGHT
TZOFFSETFROM:-0400
TZOFFSETTO:-0300
TZNAME:ADT
DTSTART:20220313T060000
END:DAYLIGHT
BEGIN:STANDARD
TZOFFSETFROM:-0300
TZOFFSETTO:-0400
TZNAME:AST
DTSTART:20221106T050000
END:STANDARD
BEGIN:DAYLIGHT
TZOFFSETFROM:-0400
TZOFFSETTO:-0300
TZNAME:ADT
DTSTART:20230312T060000
END:DAYLIGHT
BEGIN:STANDARD
TZOFFSETFROM:-0300
TZOFFSETTO:-0400
TZNAME:AST
DTSTART:20231105T050000
END:STANDARD
END:VTIMEZONE
BEGIN:VEVENT
DTSTART;TZID=America/Halifax:20221211T150000
DTEND;TZID=America/Halifax:20221211T220000
DTSTAMP:20260424T071646
CREATED:20221107T233231Z
LAST-MODIFIED:20221202T185607Z
UID:7444-1670770800-1670796000@ars-canada.ca
SUMMARY:ARS Cambridge Meghri Chapter's Ladies Christmas Party
DESCRIPTION:
URL:https://ars-canada.ca/event/ars-cambridge-meghri-chapters-ladies-christmas-party/
LOCATION:Golf’s Steak House\, 598 Lancaster St W.\, Kitchener\, Ontario\, N2K 1M3\, Canada
CATEGORIES:Cambridge - Meghri
ATTACH;FMTTYPE=image/jpeg:https://ars-canada.ca/wp-content/uploads/2022/11/Christmas-Party-Flyer-2022Dec11.revised.jpg
END:VEVENT
END:VCALENDAR